OziExplorer Map Data File Version 2.2
OUAGADOUGOU_______1403-D30GN.PNG
F:\mapas\africa\Africa Oeste (rusos) 1-500.000\OUAGADOUGOU_______1403-D30GN.PNG
1 ,Map Code,
Pulkovo 1942 (1),, 0.0000, 0.0000,WGS 84
Reserved 1
Reserved 2
Magnetic Variation,,,E
Map Projection,Latitude/Longitude,PolyCal,Yes,AutoCalOnly,No,BSBUseWPX,No
Point01,xy, 79, 72,in, deg, 14, 0.0000,N, 3, 0.0000,W, grid, , , ,
Point02,xy, 2247, 76,in, deg, 14, 0.0000,N, 1, 30.0000,W, grid, , , ,
Point03,xy, 4419, 66,in, deg, 14, 0.0000,N, 0, 0.0000,E, grid, , , ,
Point04,xy, 76, 1551,in, deg, 13, 0.0000,N, 3, 0.0000,W, grid, , , ,
Point05,xy, 2253, 1555,in, deg, 13, 0.0000,N, 1, 30.0000,W, grid, , , ,
Point06,xy, 4434, 1547,in, deg, 13, 0.0000,N, 0, 0.0000,E, grid, , , ,
Point07,xy, 73, 3030,in, deg, 12, 0.0000,N, 3, 0.0000,W, grid, , , ,
Point08,xy, 2260, 3035,in, deg, 12, 0.0000,N, 1, 30.0000,W, grid, , , ,
Point09,xy, 4448, 3028,in, deg, 12, 0.0000,N, 0, 0.0000,E, grid, , , ,
Point10,xy, , ,in, deg, , ,, , ,, grid, , , ,
Point11,xy, , ,in, deg, , ,, , ,, grid, , , ,
Point12,xy, , ,in, deg, , ,, , ,, grid, , , ,
Point13,xy, , ,in, deg, , ,, , ,, grid, , , ,
Point14,xy, , ,in, deg, , ,, , ,, grid, , , ,
Point15,xy, , ,in, deg, , ,, , ,, grid, , , ,
Point16,xy, , ,in, deg, , ,, , ,, grid, , , ,
Point17,xy, , ,in, deg, , ,, , ,, grid, , , ,
Point18,xy, , ,in, deg, , ,, , ,, grid, , , ,
Point19,xy, , ,in, deg, , ,, , ,, grid, , , ,
Point20,xy, , ,in, deg, , ,, , ,, grid, , , ,
Point21,xy, , ,in, deg, , ,, , ,, grid, , , ,
Point22,xy, , ,in, deg, , ,, , ,, grid, , , ,
Point23,xy, , ,in, deg, , ,, , ,, grid, , , ,
Point24,xy, , ,in, deg, , ,, , ,, grid, , , ,
Point25,xy, , ,in, deg, , ,, , ,, grid, , , ,
Point26,xy, , ,in, deg, , ,, , ,, grid, , , ,
Point27,xy, , ,in, deg, , ,, , ,, grid, , , ,
Point28,xy, , ,in, deg, , ,, , ,, grid, , , ,
Point29,xy, , ,in, deg, , ,, , ,, grid, , , ,
Point30,xy, , ,in, deg, , ,, , ,, grid, , , ,
Projection Setup,,,,,,,,,,
Map Feature = MF ; Map Comment = MC These follow if they exist
Track File = TF These follow if they exist
Moving Map Parameters = MM? These follow if they exist
MM0,Yes
MMPNUM,4
MMPXY,1,0,0
MMPXY,2,4941,0
MMPXY,3,4976,3097
MMPXY,4,0,3102
MMPLL,1, -3.054613, 14.048606
MMPLL,2, 0.360803, 14.041930
MMPLL,3, 0.360636, 11.950883
MMPLL,4, -3.050194, 11.950979
MM1B,74.657054
LL Grid Setup
LLGRID,No,No Grid,Yes,255,16711680,0,No Labels,0,16777215,7,1,Yes,x
Other Grid Setup
GRGRID,No,No Grid,Yes,255,16711680,No Labels,0,16777215,8,1,Yes,No,No,x
MOP,Map Open Position,0,0
IWH,Map Image Width/Height,100,100
