OziExplorer Map Data File Version 2.2
MORIS KORTBE______2400-F31AN.PNG
F:\mapas\africa\Africa Oeste (rusos) 1-500.000\MORIS KORTBE______2400-F31AN.PNG
1 ,Map Code,
Pulkovo 1942 (1),, 0.0000, 0.0000,WGS 84
Reserved 1
Reserved 2
Magnetic Variation,,,E
Map Projection,Latitude/Longitude,PolyCal,Yes,AutoCalOnly,No,BSBUseWPX,No
Point01,xy, 84, 69,in, deg, 24, 0.0000,N, 0, 0.0000,E, grid, , , ,
Point02,xy, 2127, 80,in, deg, 24, 0.0000,N, 1, 30.0000,E, grid, , , ,
Point03,xy, 4169, 72,in, deg, 24, 0.0000,N, 3, 0.0000,E, grid, , , ,
Point04,xy, 73, 1552,in, deg, 23, 0.0000,N, 0, 0.0000,E, grid, , , ,
Point05,xy, 2130, 1562,in, deg, 23, 0.0000,N, 1, 30.0000,E, grid, , , ,
Point06,xy, 4185, 1552,in, deg, 23, 0.0000,N, 3, 0.0000,E, grid, , , ,
Point07,xy, 60, 3033,in, deg, 22, 0.0000,N, 0, 0.0000,E, grid, , , ,
Point08,xy, 2132, 3044,in, deg, 22, 0.0000,N, 1, 30.0000,E, grid, , , ,
Point09,xy, 4203, 3034,in, deg, 22, 0.0000,N, 3, 0.0000,E, grid, , , ,
Point10,xy, , ,in, deg, , ,, , ,, grid, , , ,
Point11,xy, , ,in, deg, , ,, , ,, grid, , , ,
Point12,xy, , ,in, deg, , ,, , ,, grid, , , ,
Point13,xy, , ,in, deg, , ,, , ,, grid, , , ,
Point14,xy, , ,in, deg, , ,, , ,, grid, , , ,
Point15,xy, , ,in, deg, , ,, , ,, grid, , , ,
Point16,xy, , ,in, deg, , ,, , ,, grid, , , ,
Point17,xy, , ,in, deg, , ,, , ,, grid, , , ,
Point18,xy, , ,in, deg, , ,, , ,, grid, , , ,
Point19,xy, , ,in, deg, , ,, , ,, grid, , , ,
Point20,xy, , ,in, deg, , ,, , ,, grid, , , ,
Point21,xy, , ,in, deg, , ,, , ,, grid, , , ,
Point22,xy, , ,in, deg, , ,, , ,, grid, , , ,
Point23,xy, , ,in, deg, , ,, , ,, grid, , , ,
Point24,xy, , ,in, deg, , ,, , ,, grid, , , ,
Point25,xy, , ,in, deg, , ,, , ,, grid, , , ,
Point26,xy, , ,in, deg, , ,, , ,, grid, , , ,
Point27,xy, , ,in, deg, , ,, , ,, grid, , , ,
Point28,xy, , ,in, deg, , ,, , ,, grid, , , ,
Point29,xy, , ,in, deg, , ,, , ,, grid, , , ,
Point30,xy, , ,in, deg, , ,, , ,, grid, , , ,
Projection Setup,,,,,,,,,,
Map Feature = MF ; Map Comment = MC These follow if they exist
Track File = TF These follow if they exist
Moving Map Parameters = MM? These follow if they exist
MM0,Yes
MMPNUM,4
MMPXY,1,0,0
MMPXY,2,4657,0
MMPXY,3,4699,3095
MMPXY,4,0,3099
MMPLL,1, -0.062277, 24.046061
MMPLL,2, 3.359677, 24.044839
MMPLL,3, 3.359104, 21.955107
MMPLL,4, -0.043215, 21.955411
MM1B,74.592828
LL Grid Setup
LLGRID,No,No Grid,Yes,255,16711680,0,No Labels,0,16777215,7,1,Yes,x
Other Grid Setup
GRGRID,No,No Grid,Yes,255,16711680,No Labels,0,16777215,8,1,Yes,No,No,x
MOP,Map Open Position,0,0
IWH,Map Image Width/Height,100,100
