OziExplorer Map Data File Version 2.2
MOPTI_____________1606-D30AN.PNG
F:\mapas\africa\Africa Oeste (rusos) 1-500.000\MOPTI_____________1606-D30AN.PNG
1 ,Map Code,
Pulkovo 1942 (1),, 0.0000, 0.0000,WGS 84
Reserved 1
Reserved 2
Magnetic Variation,,,E
Map Projection,Latitude/Longitude,PolyCal,Yes,AutoCalOnly,No,BSBUseWPX,No
Point01,xy, 90, 64,in, deg, 16, 0.0000,N, 6, 0.0000,W, grid, , , ,
Point02,xy, 2242, 72,in, deg, 16, 0.0000,N, 4, 30.0000,W, grid, , , ,
Point03,xy, 4395, 64,in, deg, 16, 0.0000,N, 3, 0.0000,W, grid, , , ,
Point04,xy, 77, 1543,in, deg, 15, 0.0000,N, 6, 0.0000,W, grid, , , ,
Point05,xy, 2239, 1551,in, deg, 15, 0.0000,N, 4, 30.0000,W, grid, , , ,
Point06,xy, 4403, 1542,in, deg, 15, 0.0000,N, 3, 0.0000,W, grid, , , ,
Point07,xy, 65, 3023,in, deg, 14, 0.0000,N, 6, 0.0000,W, grid, , , ,
Point08,xy, 2238, 3029,in, deg, 14, 0.0000,N, 4, 30.0000,W, grid, , , ,
Point09,xy, 4410, 3020,in, deg, 14, 0.0000,N, 3, 0.0000,W, grid, , , ,
Point10,xy, , ,in, deg, , ,, , ,, grid, , , ,
Point11,xy, , ,in, deg, , ,, , ,, grid, , , ,
Point12,xy, , ,in, deg, , ,, , ,, grid, , , ,
Point13,xy, , ,in, deg, , ,, , ,, grid, , , ,
Point14,xy, , ,in, deg, , ,, , ,, grid, , , ,
Point15,xy, , ,in, deg, , ,, , ,, grid, , , ,
Point16,xy, , ,in, deg, , ,, , ,, grid, , , ,
Point17,xy, , ,in, deg, , ,, , ,, grid, , , ,
Point18,xy, , ,in, deg, , ,, , ,, grid, , , ,
Point19,xy, , ,in, deg, , ,, , ,, grid, , , ,
Point20,xy, , ,in, deg, , ,, , ,, grid, , , ,
Point21,xy, , ,in, deg, , ,, , ,, grid, , , ,
Point22,xy, , ,in, deg, , ,, , ,, grid, , , ,
Point23,xy, , ,in, deg, , ,, , ,, grid, , , ,
Point24,xy, , ,in, deg, , ,, , ,, grid, , , ,
Point25,xy, , ,in, deg, , ,, , ,, grid, , , ,
Point26,xy, , ,in, deg, , ,, , ,, grid, , , ,
Point27,xy, , ,in, deg, , ,, , ,, grid, , , ,
Point28,xy, , ,in, deg, , ,, , ,, grid, , , ,
Point29,xy, , ,in, deg, , ,, , ,, grid, , , ,
Point30,xy, , ,in, deg, , ,, , ,, grid, , , ,
Projection Setup,,,,,,,,,,
Map Feature = MF ; Map Comment = MC These follow if they exist
Track File = TF These follow if they exist
Moving Map Parameters = MM? These follow if they exist
MM0,Yes
MMPNUM,4
MMPXY,1,0,0
MMPXY,2,4881,0
MMPXY,3,4902,3086
MMPXY,4,0,3093
MMPLL,1, -6.062978, 16.042737
MMPLL,2, -2.661283, 16.040657
MMPLL,3, -2.661097, 13.952342
MMPLL,4, -6.044572, 13.952218
MM1B,74.487005
LL Grid Setup
LLGRID,No,No Grid,Yes,255,16711680,0,No Labels,0,16777215,7,1,Yes,x
Other Grid Setup
GRGRID,No,No Grid,Yes,255,16711680,No Labels,0,16777215,8,1,Yes,No,No,x
MOP,Map Open Position,0,0
IWH,Map Image Width/Height,100,100
