OziExplorer Map Data File Version 2.2
MITTELMEER________3430-I36WN.PNG
F:\mapas\africa\Africa Este (rusos) 1-500.000\MITTELMEER________3430-I36WN.PNG
1 ,Map Code,
Pulkovo 1942 (1),, 0.0000, 0.0000,WGS 84
Reserved 1
Reserved 2
Magnetic Variation,,,E
Map Projection,Latitude/Longitude,PolyCal,Yes,AutoCalOnly,No,BSBUseWPX,No
Point01,xy, 98, 65,in, deg, 34, 0.0000,N, 30, 0.0000,E, grid, , , ,
Point02,xy, 1956, 78,in, deg, 34, 0.0000,N, 31, 30.0000,E, grid, , , ,
Point03,xy, 3812, 64,in, deg, 34, 0.0000,N, 33, 0.0000,E, grid, , , ,
Point04,xy, 80, 1549,in, deg, 33, 0.0000,N, 30, 0.0000,E, grid, , , ,
Point05,xy, 1959, 1562,in, deg, 33, 0.0000,N, 31, 30.0000,E, grid, , , ,
Point06,xy, 3837, 1549,in, deg, 33, 0.0000,N, 33, 0.0000,E, grid, , , ,
Point07,xy, 62, 3035,in, deg, 32, 0.0000,N, 30, 0.0000,E, grid, , , ,
Point08,xy, 1962, 3047,in, deg, 32, 0.0000,N, 31, 30.0000,E, grid, , , ,
Point09,xy, 3861, 3031,in, deg, 32, 0.0000,N, 33, 0.0000,E, grid, , , ,
Point10,xy, , ,in, deg, , ,, , ,, grid, , , ,
Point11,xy, , ,in, deg, , ,, , ,, grid, , , ,
Point12,xy, , ,in, deg, , ,, , ,, grid, , , ,
Point13,xy, , ,in, deg, , ,, , ,, grid, , , ,
Point14,xy, , ,in, deg, , ,, , ,, grid, , , ,
Point15,xy, , ,in, deg, , ,, , ,, grid, , , ,
Point16,xy, , ,in, deg, , ,, , ,, grid, , , ,
Point17,xy, , ,in, deg, , ,, , ,, grid, , , ,
Point18,xy, , ,in, deg, , ,, , ,, grid, , , ,
Point19,xy, , ,in, deg, , ,, , ,, grid, , , ,
Point20,xy, , ,in, deg, , ,, , ,, grid, , , ,
Point21,xy, , ,in, deg, , ,, , ,, grid, , , ,
Point22,xy, , ,in, deg, , ,, , ,, grid, , , ,
Point23,xy, , ,in, deg, , ,, , ,, grid, , , ,
Point24,xy, , ,in, deg, , ,, , ,, grid, , , ,
Point25,xy, , ,in, deg, , ,, , ,, grid, , , ,
Point26,xy, , ,in, deg, , ,, , ,, grid, , , ,
Point27,xy, , ,in, deg, , ,, , ,, grid, , , ,
Point28,xy, , ,in, deg, , ,, , ,, grid, , , ,
Point29,xy, , ,in, deg, , ,, , ,, grid, , , ,
Point30,xy, , ,in, deg, , ,, , ,, grid, , , ,
Projection Setup,,,,,,,,,,
Map Feature = MF ; Map Comment = MC These follow if they exist
Track File = TF These follow if they exist
Moving Map Parameters = MM? These follow if they exist
MM0,Yes
MMPNUM,4
MMPXY,1,0,0
MMPXY,2,4456,0
MMPXY,3,4522,3103
MMPXY,4,0,3117
MMPLL,1, 29.920232, 34.042497
MMPLL,2, 33.521387, 34.035981
MMPLL,3, 33.520975, 31.944063
MMPLL,4, 29.952030, 31.944060
MM1B,74.505598
LL Grid Setup
LLGRID,No,No Grid,Yes,255,16711680,0,No Labels,0,16777215,7,1,Yes,x
Other Grid Setup
GRGRID,No,No Grid,Yes,255,16711680,No Labels,0,16777215,8,1,Yes,No,No,x
MOP,Map Open Position,0,0
IWH,Map Image Width/Height,2500,1250
