OziExplorer Map Data File Version 2.2
MENGAR ALJ MERTSC_3424-I35WN.PNG
F:\mapas\africa\Africa Este (rusos) 1-500.000\MENGAR ALJ MERTSC_3424-I35WN.PNG
1 ,Map Code,
Pulkovo 1942 (1),, 0.0000, 0.0000,WGS 84
Reserved 1
Reserved 2
Magnetic Variation,,,E
Map Projection,Latitude/Longitude,PolyCal,Yes,AutoCalOnly,No,BSBUseWPX,No
Point01,xy, 93, 58,in, deg, 34, 0.0000,N, 24, 0.0000,E, grid, , , ,
Point02,xy, 1945, 71,in, deg, 34, 0.0000,N, 25, 30.0000,E, grid, , , ,
Point03,xy, 3794, 58,in, deg, 34, 0.0000,N, 27, 0.0000,E, grid, , , ,
Point04,xy, 76, 1540,in, deg, 33, 0.0000,N, 24, 0.0000,E, grid, , , ,
Point05,xy, 1946, 1554,in, deg, 33, 0.0000,N, 25, 30.0000,E, grid, , , ,
Point06,xy, 3817, 1542,in, deg, 33, 0.0000,N, 27, 0.0000,E, grid, , , ,
Point07,xy, 58, 3026,in, deg, 32, 0.0000,N, 24, 0.0000,E, grid, , , ,
Point08,xy, 1949, 3037,in, deg, 32, 0.0000,N, 25, 30.0000,E, grid, , , ,
Point09,xy, 3839, 3025,in, deg, 32, 0.0000,N, 27, 0.0000,E, grid, , , ,
Point10,xy, , ,in, deg, , ,, , ,, grid, , , ,
Point11,xy, , ,in, deg, , ,, , ,, grid, , , ,
Point12,xy, , ,in, deg, , ,, , ,, grid, , , ,
Point13,xy, , ,in, deg, , ,, , ,, grid, , , ,
Point14,xy, , ,in, deg, , ,, , ,, grid, , , ,
Point15,xy, , ,in, deg, , ,, , ,, grid, , , ,
Point16,xy, , ,in, deg, , ,, , ,, grid, , , ,
Point17,xy, , ,in, deg, , ,, , ,, grid, , , ,
Point18,xy, , ,in, deg, , ,, , ,, grid, , , ,
Point19,xy, , ,in, deg, , ,, , ,, grid, , , ,
Point20,xy, , ,in, deg, , ,, , ,, grid, , , ,
Point21,xy, , ,in, deg, , ,, , ,, grid, , , ,
Point22,xy, , ,in, deg, , ,, , ,, grid, , , ,
Point23,xy, , ,in, deg, , ,, , ,, grid, , , ,
Point24,xy, , ,in, deg, , ,, , ,, grid, , , ,
Point25,xy, , ,in, deg, , ,, , ,, grid, , , ,
Point26,xy, , ,in, deg, , ,, , ,, grid, , , ,
Point27,xy, , ,in, deg, , ,, , ,, grid, , , ,
Point28,xy, , ,in, deg, , ,, , ,, grid, , , ,
Point29,xy, , ,in, deg, , ,, , ,, grid, , , ,
Point30,xy, , ,in, deg, , ,, , ,, grid, , , ,
Projection Setup,,,,,,,,,,
Map Feature = MF ; Map Comment = MC These follow if they exist
Track File = TF These follow if they exist
Moving Map Parameters = MM? These follow if they exist
MM0,Yes
MMPNUM,4
MMPXY,1,0,0
MMPXY,2,4340,0
MMPXY,3,4399,3091
MMPXY,4,0,3099
MMPLL,1, 23.923811, 34.038056
MMPLL,2, 27.443364, 34.033886
MMPLL,3, 27.443472, 31.949855
MMPLL,4, 23.954732, 31.949815
MM1B,74.782163
LL Grid Setup
LLGRID,No,No Grid,Yes,255,16711680,0,No Labels,0,16777215,7,1,Yes,x
Other Grid Setup
GRGRID,No,No Grid,Yes,255,16711680,No Labels,0,16777215,8,1,Yes,No,No,x
MOP,Map Open Position,0,0
IWH,Map Image Width/Height,2500,1250
