OziExplorer Map Data File Version 2.2
MEKNES____________3406-I30WN.PNG
F:\mapas\africa\Africa Oeste (rusos) 1-500.000\MEKNES____________3406-I30WN.PNG
1 ,Map Code,
Pulkovo 1942 (1),, 0.0000, 0.0000,WGS 84
Reserved 1
Reserved 2
Magnetic Variation,,,E
Map Projection,Latitude/Longitude,PolyCal,Yes,AutoCalOnly,No,BSBUseWPX,No
Point01,xy, 94, 63,in, deg, 34, 0.0000,N, 6, 0.0000,W, grid, , , ,
Point02,xy, 1952, 79,in, deg, 34, 0.0000,N, 4, 30.0000,W, grid, , , ,
Point03,xy, 3807, 68,in, deg, 34, 0.0000,N, 3, 0.0000,W, grid, , , ,
Point04,xy, 75, 1548,in, deg, 33, 0.0000,N, 6, 0.0000,W, grid, , , ,
Point05,xy, 1954, 1564,in, deg, 33, 0.0000,N, 4, 30.0000,W, grid, , , ,
Point06,xy, 3830, 1553,in, deg, 33, 0.0000,N, 3, 0.0000,W, grid, , , ,
Point07,xy, 56, 3032,in, deg, 32, 0.0000,N, 6, 0.0000,W, grid, , , ,
Point08,xy, 1957, 3047,in, deg, 32, 0.0000,N, 4, 30.0000,W, grid, , , ,
Point09,xy, 3851, 3037,in, deg, 32, 0.0000,N, 3, 0.0000,W, grid, , , ,
Point10,xy, , ,in, deg, , ,, , ,, grid, , , ,
Point11,xy, , ,in, deg, , ,, , ,, grid, , , ,
Point12,xy, , ,in, deg, , ,, , ,, grid, , , ,
Point13,xy, , ,in, deg, , ,, , ,, grid, , , ,
Point14,xy, , ,in, deg, , ,, , ,, grid, , , ,
Point15,xy, , ,in, deg, , ,, , ,, grid, , , ,
Point16,xy, , ,in, deg, , ,, , ,, grid, , , ,
Point17,xy, , ,in, deg, , ,, , ,, grid, , , ,
Point18,xy, , ,in, deg, , ,, , ,, grid, , , ,
Point19,xy, , ,in, deg, , ,, , ,, grid, , , ,
Point20,xy, , ,in, deg, , ,, , ,, grid, , , ,
Point21,xy, , ,in, deg, , ,, , ,, grid, , , ,
Point22,xy, , ,in, deg, , ,, , ,, grid, , , ,
Point23,xy, , ,in, deg, , ,, , ,, grid, , , ,
Point24,xy, , ,in, deg, , ,, , ,, grid, , , ,
Point25,xy, , ,in, deg, , ,, , ,, grid, , , ,
Point26,xy, , ,in, deg, , ,, , ,, grid, , , ,
Point27,xy, , ,in, deg, , ,, , ,, grid, , , ,
Point28,xy, , ,in, deg, , ,, , ,, grid, , , ,
Point29,xy, , ,in, deg, , ,, , ,, grid, , , ,
Point30,xy, , ,in, deg, , ,, , ,, grid, , , ,
Projection Setup,,,,,,,,,,
Map Feature = MF ; Map Comment = MC These follow if they exist
Track File = TF These follow if they exist
Moving Map Parameters = MM? These follow if they exist
MM0,Yes
MMPNUM,4
MMPXY,1,0,0
MMPXY,2,4323,0
MMPXY,3,4382,3100
MMPXY,4,0,3101
MMPLL,1, -6.076095, 34.041472
MMPLL,2, -2.581031, 34.040673
MMPLL,3, -2.580714, 31.952182
MMPLL,4, -6.043651, 31.952748
MM1B,74.401177
LL Grid Setup
LLGRID,No,No Grid,Yes,255,16711680,0,No Labels,0,16777215,7,1,Yes,x
Other Grid Setup
GRGRID,No,No Grid,Yes,255,16711680,No Labels,0,16777215,8,1,Yes,No,No,x
MOP,Map Open Position,0,0
IWH,Map Image Width/Height,100,100
