OziExplorer Map Data File Version 2.2
MASSAWA___________1639-D37BN.PNG
F:\mapas\africa\Africa Este (rusos) 1-500.000\MASSAWA___________1639-D37BN.PNG
1 ,Map Code,
Pulkovo 1942 (1),, 0.0000, 0.0000,WGS 84
Reserved 1
Reserved 2
Magnetic Variation,,,E
Map Projection,Latitude/Longitude,PolyCal,Yes,AutoCalOnly,No,BSBUseWPX,No
Point01,xy, 95, 66,in, deg, 16, 0.0000,N, 39, 0.0000,E, grid, , , ,
Point02,xy, 2246, 77,in, deg, 16, 0.0000,N, 40, 30.0000,E, grid, , , ,
Point03,xy, 4402, 70,in, deg, 16, 0.0000,N, 42, 0.0000,E, grid, , , ,
Point04,xy, 78, 1546,in, deg, 15, 0.0000,N, 39, 0.0000,E, grid, , , ,
Point05,xy, 2240, 1556,in, deg, 15, 0.0000,N, 40, 30.0000,E, grid, , , ,
Point06,xy, 4405, 1548,in, deg, 15, 0.0000,N, 42, 0.0000,E, grid, , , ,
Point07,xy, 64, 3021,in, deg, 14, 0.0000,N, 39, 0.0000,E, grid, , , ,
Point08,xy, 2235, 3031,in, deg, 14, 0.0000,N, 40, 30.0000,E, grid, , , ,
Point09,xy, 4409, 3025,in, deg, 14, 0.0000,N, 42, 0.0000,E, grid, , , ,
Point10,xy, , ,in, deg, , ,, , ,, grid, , , ,
Point11,xy, , ,in, deg, , ,, , ,, grid, , , ,
Point12,xy, , ,in, deg, , ,, , ,, grid, , , ,
Point13,xy, , ,in, deg, , ,, , ,, grid, , , ,
Point14,xy, , ,in, deg, , ,, , ,, grid, , , ,
Point15,xy, , ,in, deg, , ,, , ,, grid, , , ,
Point16,xy, , ,in, deg, , ,, , ,, grid, , , ,
Point17,xy, , ,in, deg, , ,, , ,, grid, , , ,
Point18,xy, , ,in, deg, , ,, , ,, grid, , , ,
Point19,xy, , ,in, deg, , ,, , ,, grid, , , ,
Point20,xy, , ,in, deg, , ,, , ,, grid, , , ,
Point21,xy, , ,in, deg, , ,, , ,, grid, , , ,
Point22,xy, , ,in, deg, , ,, , ,, grid, , , ,
Point23,xy, , ,in, deg, , ,, , ,, grid, , , ,
Point24,xy, , ,in, deg, , ,, , ,, grid, , , ,
Point25,xy, , ,in, deg, , ,, , ,, grid, , , ,
Point26,xy, , ,in, deg, , ,, , ,, grid, , , ,
Point27,xy, , ,in, deg, , ,, , ,, grid, , , ,
Point28,xy, , ,in, deg, , ,, , ,, grid, , , ,
Point29,xy, , ,in, deg, , ,, , ,, grid, , , ,
Point30,xy, , ,in, deg, , ,, , ,, grid, , , ,
Projection Setup,,,,,,,,,,
Map Feature = MF ; Map Comment = MC These follow if they exist
Track File = TF These follow if they exist
Moving Map Parameters = MM? These follow if they exist
MM0,Yes
MMPNUM,4
MMPXY,1,0,0
MMPXY,2,4891,0
MMPXY,3,4904,3090
MMPXY,4,0,3090
MMPLL,1, 38.933450, 16.044292
MMPLL,2, 42.340103, 16.044424
MMPLL,3, 42.340669, 13.952806
MMPLL,4, 38.956230, 13.952880
MM1B,74.553450
LL Grid Setup
LLGRID,No,No Grid,Yes,255,16711680,0,No Labels,0,16777215,7,1,Yes,x
Other Grid Setup
GRGRID,No,No Grid,Yes,255,16711680,No Labels,0,16777215,8,1,Yes,No,No,x
MOP,Map Open Position,0,0
IWH,Map Image Width/Height,2500,1250
