OziExplorer Map Data File Version 2.2
KITA______________1412-D29WN.PNG
F:\mapas\africa\Africa Oeste (rusos) 1-500.000\KITA______________1412-D29WN.PNG
1 ,Map Code,
Pulkovo 1942 (1),, 0.0000, 0.0000,WGS 84
Reserved 1
Reserved 2
Magnetic Variation,,,E
Map Projection,Latitude/Longitude,PolyCal,Yes,AutoCalOnly,No,BSBUseWPX,No
Point01,xy, 74, 68,in, deg, 14, 0.0000,N, 12, 0.0000,W, grid, , , ,
Point02,xy, 2250, 77,in, deg, 14, 0.0000,N, 10, 30.0000,W, grid, , , ,
Point03,xy, 4425, 72,in, deg, 14, 0.0000,N, 9, 0.0000,W, grid, , , ,
Point04,xy, 68, 1550,in, deg, 13, 0.0000,N, 12, 0.0000,W, grid, , , ,
Point05,xy, 2253, 1554,in, deg, 13, 0.0000,N, 10, 30.0000,W, grid, , , ,
Point06,xy, 4436, 1549,in, deg, 13, 0.0000,N, 9, 0.0000,W, grid, , , ,
Point07,xy, 64, 3031,in, deg, 12, 0.0000,N, 12, 0.0000,W, grid, , , ,
Point08,xy, 2257, 3037,in, deg, 12, 0.0000,N, 10, 30.0000,W, grid, , , ,
Point09,xy, 4447, 3032,in, deg, 12, 0.0000,N, 9, 0.0000,W, grid, , , ,
Point10,xy, , ,in, deg, , ,, , ,, grid, , , ,
Point11,xy, , ,in, deg, , ,, , ,, grid, , , ,
Point12,xy, , ,in, deg, , ,, , ,, grid, , , ,
Point13,xy, , ,in, deg, , ,, , ,, grid, , , ,
Point14,xy, , ,in, deg, , ,, , ,, grid, , , ,
Point15,xy, , ,in, deg, , ,, , ,, grid, , , ,
Point16,xy, , ,in, deg, , ,, , ,, grid, , , ,
Point17,xy, , ,in, deg, , ,, , ,, grid, , , ,
Point18,xy, , ,in, deg, , ,, , ,, grid, , , ,
Point19,xy, , ,in, deg, , ,, , ,, grid, , , ,
Point20,xy, , ,in, deg, , ,, , ,, grid, , , ,
Point21,xy, , ,in, deg, , ,, , ,, grid, , , ,
Point22,xy, , ,in, deg, , ,, , ,, grid, , , ,
Point23,xy, , ,in, deg, , ,, , ,, grid, , , ,
Point24,xy, , ,in, deg, , ,, , ,, grid, , , ,
Point25,xy, , ,in, deg, , ,, , ,, grid, , , ,
Point26,xy, , ,in, deg, , ,, , ,, grid, , , ,
Point27,xy, , ,in, deg, , ,, , ,, grid, , , ,
Point28,xy, , ,in, deg, , ,, , ,, grid, , , ,
Point29,xy, , ,in, deg, , ,, , ,, grid, , , ,
Point30,xy, , ,in, deg, , ,, , ,, grid, , , ,
Projection Setup,,,,,,,,,,
Map Feature = MF ; Map Comment = MC These follow if they exist
Track File = TF These follow if they exist
Moving Map Parameters = MM? These follow if they exist
MM0,Yes
MMPNUM,4
MMPXY,1,0,0
MMPXY,2,4961,0
MMPXY,3,4988,3099
MMPXY,4,0,3102
MMPLL,1, -12.050938, 14.046421
MMPLL,2, -8.629685, 14.046800
MMPLL,3, -8.630045, 11.952270
MMPLL,4, -12.043630, 11.952321
MM1B,74.294272
LL Grid Setup
LLGRID,No,No Grid,Yes,255,16711680,0,No Labels,0,16777215,7,1,Yes,x
Other Grid Setup
GRGRID,No,No Grid,Yes,255,16711680,No Labels,0,16777215,8,1,Yes,No,No,x
MOP,Map Open Position,0,0
IWH,Map Image Width/Height,100,100
