OziExplorer Map Data File Version 2.2
KINSHASA__________0415-B33BS.PNG
F:\mapas\africa\Africa Oeste (rusos) 1-500.000\KINSHASA__________0415-B33BS.PNG
1 ,Map Code,
Pulkovo 1942 (1),, 0.0000, 0.0000,WGS 84
Reserved 1
Reserved 2
Magnetic Variation,,,E
Map Projection,Latitude/Longitude,PolyCal,Yes,AutoCalOnly,No,BSBUseWPX,No
Point01,xy, 79, 80,in, deg, 4, 0.0000,S, 15, 0.0000,E, grid, , , ,
Point02,xy, 2312, 77,in, deg, 4, 0.0000,S, 16, 30.0000,E, grid, , , ,
Point03,xy, 4550, 77,in, deg, 4, 0.0000,S, 18, 0.0000,E, grid, , , ,
Point04,xy, 79, 1557,in, deg, 5, 0.0000,S, 15, 0.0000,E, grid, , , ,
Point05,xy, 2309, 1553,in, deg, 5, 0.0000,S, 16, 30.0000,E, grid, , , ,
Point06,xy, 4542, 1556,in, deg, 5, 0.0000,S, 18, 0.0000,E, grid, , , ,
Point07,xy, 79, 3033,in, deg, 6, 0.0000,S, 15, 0.0000,E, grid, , , ,
Point08,xy, 2305, 3032,in, deg, 6, 0.0000,S, 16, 30.0000,E, grid, , , ,
Point09,xy, 4535, 3035,in, deg, 6, 0.0000,S, 18, 0.0000,E, grid, , , ,
Point10,xy, , ,in, deg, , ,, , ,, grid, , , ,
Point11,xy, , ,in, deg, , ,, , ,, grid, , , ,
Point12,xy, , ,in, deg, , ,, , ,, grid, , , ,
Point13,xy, , ,in, deg, , ,, , ,, grid, , , ,
Point14,xy, , ,in, deg, , ,, , ,, grid, , , ,
Point15,xy, , ,in, deg, , ,, , ,, grid, , , ,
Point16,xy, , ,in, deg, , ,, , ,, grid, , , ,
Point17,xy, , ,in, deg, , ,, , ,, grid, , , ,
Point18,xy, , ,in, deg, , ,, , ,, grid, , , ,
Point19,xy, , ,in, deg, , ,, , ,, grid, , , ,
Point20,xy, , ,in, deg, , ,, , ,, grid, , , ,
Point21,xy, , ,in, deg, , ,, , ,, grid, , , ,
Point22,xy, , ,in, deg, , ,, , ,, grid, , , ,
Point23,xy, , ,in, deg, , ,, , ,, grid, , , ,
Point24,xy, , ,in, deg, , ,, , ,, grid, , , ,
Point25,xy, , ,in, deg, , ,, , ,, grid, , , ,
Point26,xy, , ,in, deg, , ,, , ,, grid, , , ,
Point27,xy, , ,in, deg, , ,, , ,, grid, , , ,
Point28,xy, , ,in, deg, , ,, , ,, grid, , , ,
Point29,xy, , ,in, deg, , ,, , ,, grid, , , ,
Point30,xy, , ,in, deg, , ,, , ,, grid, , , ,
Projection Setup,,,,,,,,,,
Map Feature = MF ; Map Comment = MC These follow if they exist
Track File = TF These follow if they exist
Moving Map Parameters = MM? These follow if they exist
MM0,Yes
MMPNUM,4
MMPXY,1,0,0
MMPXY,2,5058,0
MMPXY,3,5040,3119
MMPXY,4,0,3116
MMPLL,1, 14.946957, -3.945392
MMPLL,2, 18.340074, -3.947235
MMPLL,3, 18.339691, -6.055807
MMPLL,4, 14.946650, -6.055969
MM1B,74.514466
LL Grid Setup
LLGRID,No,No Grid,Yes,255,16711680,0,No Labels,0,16777215,7,1,Yes,x
Other Grid Setup
GRGRID,No,No Grid,Yes,255,16711680,No Labels,0,16777215,8,1,Yes,No,No,x
MOP,Map Open Position,0,0
IWH,Map Image Width/Height,100,100
