OziExplorer Map Data File Version 2.2
KIGALI____________0030-A36AS.PNG
F:\mapas\africa\Africa Este (rusos) 1-500.000\KIGALI____________0030-A36AS.PNG
1 ,Map Code,
Pulkovo 1942 (1),, 0.0000, 0.0000,WGS 84
Reserved 1
Reserved 2
Magnetic Variation,,,E
Map Projection,Latitude/Longitude,PolyCal,Yes,AutoCalOnly,No,BSBUseWPX,No
Point01,xy, 73, 68,in, deg, 0, 0.0000,N, 30, 0.0000,E, grid, , , ,
Point02,xy, 2312, 72,in, deg, 0, 0.0000,N, 31, 30.0000,E, grid, , , ,
Point03,xy, 4553, 75,in, deg, 0, 0.0000,N, 33, 0.0000,E, grid, , , ,
Point04,xy, 72, 1549,in, deg, 1, 0.0000,S, 30, 0.0000,E, grid, , , ,
Point05,xy, 2309, 1550,in, deg, 1, 0.0000,S, 31, 30.0000,E, grid, , , ,
Point06,xy, 4543, 1551,in, deg, 1, 0.0000,S, 33, 0.0000,E, grid, , , ,
Point07,xy, 67, 3029,in, deg, 2, 0.0000,S, 30, 0.0000,E, grid, , , ,
Point08,xy, 2304, 3026,in, deg, 2, 0.0000,S, 31, 30.0000,E, grid, , , ,
Point09,xy, 4541, 3028,in, deg, 2, 0.0000,S, 33, 0.0000,E, grid, , , ,
Point10,xy, , ,in, deg, , ,, , ,, grid, , , ,
Point11,xy, , ,in, deg, , ,, , ,, grid, , , ,
Point12,xy, , ,in, deg, , ,, , ,, grid, , , ,
Point13,xy, , ,in, deg, , ,, , ,, grid, , , ,
Point14,xy, , ,in, deg, , ,, , ,, grid, , , ,
Point15,xy, , ,in, deg, , ,, , ,, grid, , , ,
Point16,xy, , ,in, deg, , ,, , ,, grid, , , ,
Point17,xy, , ,in, deg, , ,, , ,, grid, , , ,
Point18,xy, , ,in, deg, , ,, , ,, grid, , , ,
Point19,xy, , ,in, deg, , ,, , ,, grid, , , ,
Point20,xy, , ,in, deg, , ,, , ,, grid, , , ,
Point21,xy, , ,in, deg, , ,, , ,, grid, , , ,
Point22,xy, , ,in, deg, , ,, , ,, grid, , , ,
Point23,xy, , ,in, deg, , ,, , ,, grid, , , ,
Point24,xy, , ,in, deg, , ,, , ,, grid, , , ,
Point25,xy, , ,in, deg, , ,, , ,, grid, , , ,
Point26,xy, , ,in, deg, , ,, , ,, grid, , , ,
Point27,xy, , ,in, deg, , ,, , ,, grid, , , ,
Point28,xy, , ,in, deg, , ,, , ,, grid, , , ,
Point29,xy, , ,in, deg, , ,, , ,, grid, , , ,
Point30,xy, , ,in, deg, , ,, , ,, grid, , , ,
Projection Setup,,,,,,,,,,
Map Feature = MF ; Map Comment = MC These follow if they exist
Track File = TF These follow if they exist
Moving Map Parameters = MM? These follow if they exist
MM0,Yes
MMPNUM,4
MMPXY,1,1,0
MMPXY,2,5146,0
MMPXY,3,5133,3094
MMPXY,4,0,3095
MMPLL,1, 29.951255, 0.046255
MMPLL,2, 33.398033, 0.051829
MMPLL,3, 33.398081, -2.045128
MMPLL,4, 29.954490, -2.044872
MM1B,74.430529
LL Grid Setup
LLGRID,No,No Grid,Yes,255,16711680,0,No Labels,0,16777215,7,1,Yes,x
Other Grid Setup
GRGRID,No,No Grid,Yes,255,16711680,No Labels,0,16777215,8,1,Yes,No,No,x
MOP,Map Open Position,0,0
IWH,Map Image Width/Height,2500,1250
