OziExplorer Map Data File Version 2.2
KAYES_____________1612-D29AN.PNG
F:\mapas\africa\Africa Oeste (rusos) 1-500.000\KAYES_____________1612-D29AN.PNG
1 ,Map Code,
Pulkovo 1942 (1),, 0.0000, 0.0000,WGS 84
Reserved 1
Reserved 2
Magnetic Variation,,,E
Map Projection,Latitude/Longitude,PolyCal,Yes,AutoCalOnly,No,BSBUseWPX,No
Point01,xy, 81, 69,in, deg, 16, 0.0000,N, 12, 0.0000,W, grid, , , ,
Point02,xy, 2236, 80,in, deg, 16, 0.0000,N, 10, 30.0000,W, grid, , , ,
Point03,xy, 4392, 77,in, deg, 16, 0.0000,N, 9, 0.0000,W, grid, , , ,
Point04,xy, 73, 1550,in, deg, 15, 0.0000,N, 12, 0.0000,W, grid, , , ,
Point05,xy, 2237, 1558,in, deg, 15, 0.0000,N, 10, 30.0000,W, grid, , , ,
Point06,xy, 4403, 1557,in, deg, 15, 0.0000,N, 9, 0.0000,W, grid, , , ,
Point07,xy, 64, 3032,in, deg, 14, 0.0000,N, 12, 0.0000,W, grid, , , ,
Point08,xy, 2237, 3042,in, deg, 14, 0.0000,N, 10, 30.0000,W, grid, , , ,
Point09,xy, 4412, 3037,in, deg, 14, 0.0000,N, 9, 0.0000,W, grid, , , ,
Point10,xy, , ,in, deg, , ,, , ,, grid, , , ,
Point11,xy, , ,in, deg, , ,, , ,, grid, , , ,
Point12,xy, , ,in, deg, , ,, , ,, grid, , , ,
Point13,xy, , ,in, deg, , ,, , ,, grid, , , ,
Point14,xy, , ,in, deg, , ,, , ,, grid, , , ,
Point15,xy, , ,in, deg, , ,, , ,, grid, , , ,
Point16,xy, , ,in, deg, , ,, , ,, grid, , , ,
Point17,xy, , ,in, deg, , ,, , ,, grid, , , ,
Point18,xy, , ,in, deg, , ,, , ,, grid, , , ,
Point19,xy, , ,in, deg, , ,, , ,, grid, , , ,
Point20,xy, , ,in, deg, , ,, , ,, grid, , , ,
Point21,xy, , ,in, deg, , ,, , ,, grid, , , ,
Point22,xy, , ,in, deg, , ,, , ,, grid, , , ,
Point23,xy, , ,in, deg, , ,, , ,, grid, , , ,
Point24,xy, , ,in, deg, , ,, , ,, grid, , , ,
Point25,xy, , ,in, deg, , ,, , ,, grid, , , ,
Point26,xy, , ,in, deg, , ,, , ,, grid, , , ,
Point27,xy, , ,in, deg, , ,, , ,, grid, , , ,
Point28,xy, , ,in, deg, , ,, , ,, grid, , , ,
Point29,xy, , ,in, deg, , ,, , ,, grid, , , ,
Point30,xy, , ,in, deg, , ,, , ,, grid, , , ,
Projection Setup,,,,,,,,,,
Map Feature = MF ; Map Comment = MC These follow if they exist
Track File = TF These follow if they exist
Moving Map Parameters = MM? These follow if they exist
MM0,Yes
MMPNUM,4
MMPXY,1,0,0
MMPXY,2,4891,0
MMPXY,3,4917,3105
MMPXY,4,0,3102
MMPLL,1, -12.056673, 16.046306
MMPLL,2, -8.652723, 16.050747
MMPLL,3, -8.652243, 13.952637
MMPLL,4, -12.043762, 13.952732
MM1B,74.421286
LL Grid Setup
LLGRID,No,No Grid,Yes,255,16711680,0,No Labels,0,16777215,7,1,Yes,x
Other Grid Setup
GRGRID,No,No Grid,Yes,255,16711680,No Labels,0,16777215,8,1,Yes,No,No,x
MOP,Map Open Position,0,0
IWH,Map Image Width/Height,100,100
