OziExplorer Map Data File Version 2.2
KAGA BANDORO______0818-B34AN.PNG
F:\mapas\africa\Africa Este (rusos) 1-500.000\KAGA BANDORO______0818-B34AN.PNG
1 ,Map Code,
Pulkovo 1942 (1),, 0.0000, 0.0000,WGS 84
Reserved 1
Reserved 2
Magnetic Variation,,,E
Map Projection,Latitude/Longitude,PolyCal,Yes,AutoCalOnly,No,BSBUseWPX,No
Point01,xy, 62, 63,in, deg, 8, 0.0000,N, 18, 0.0000,E, grid, , , ,
Point02,xy, 2279, 68,in, deg, 8, 0.0000,N, 19, 30.0000,E, grid, , , ,
Point03,xy, 4496, 67,in, deg, 8, 0.0000,N, 21, 0.0000,E, grid, , , ,
Point04,xy, 60, 1544,in, deg, 7, 0.0000,N, 18, 0.0000,E, grid, , , ,
Point05,xy, 2281, 1546,in, deg, 7, 0.0000,N, 19, 30.0000,E, grid, , , ,
Point06,xy, 4502, 1546,in, deg, 7, 0.0000,N, 21, 0.0000,E, grid, , , ,
Point07,xy, 58, 3025,in, deg, 6, 0.0000,N, 18, 0.0000,E, grid, , , ,
Point08,xy, 2284, 3027,in, deg, 6, 0.0000,N, 19, 30.0000,E, grid, , , ,
Point09,xy, 4508, 3026,in, deg, 6, 0.0000,N, 21, 0.0000,E, grid, , , ,
Point10,xy, , ,in, deg, , ,, , ,, grid, , , ,
Point11,xy, , ,in, deg, , ,, , ,, grid, , , ,
Point12,xy, , ,in, deg, , ,, , ,, grid, , , ,
Point13,xy, , ,in, deg, , ,, , ,, grid, , , ,
Point14,xy, , ,in, deg, , ,, , ,, grid, , , ,
Point15,xy, , ,in, deg, , ,, , ,, grid, , , ,
Point16,xy, , ,in, deg, , ,, , ,, grid, , , ,
Point17,xy, , ,in, deg, , ,, , ,, grid, , , ,
Point18,xy, , ,in, deg, , ,, , ,, grid, , , ,
Point19,xy, , ,in, deg, , ,, , ,, grid, , , ,
Point20,xy, , ,in, deg, , ,, , ,, grid, , , ,
Point21,xy, , ,in, deg, , ,, , ,, grid, , , ,
Point22,xy, , ,in, deg, , ,, , ,, grid, , , ,
Point23,xy, , ,in, deg, , ,, , ,, grid, , , ,
Point24,xy, , ,in, deg, , ,, , ,, grid, , , ,
Point25,xy, , ,in, deg, , ,, , ,, grid, , , ,
Point26,xy, , ,in, deg, , ,, , ,, grid, , , ,
Point27,xy, , ,in, deg, , ,, , ,, grid, , , ,
Point28,xy, , ,in, deg, , ,, , ,, grid, , , ,
Point29,xy, , ,in, deg, , ,, , ,, grid, , , ,
Point30,xy, , ,in, deg, , ,, , ,, grid, , , ,
Projection Setup,,,,,,,,,,
Map Feature = MF ; Map Comment = MC These follow if they exist
Track File = TF These follow if they exist
Moving Map Parameters = MM? These follow if they exist
MM0,Yes
MMPNUM,4
MMPXY,1,0,0
MMPXY,2,4993,1
MMPXY,3,5008,3084
MMPXY,4,0,3084
MMPLL,1, 17.958073, 8.042797
MMPLL,2, 21.336656, 8.044542
MMPLL,3, 21.336842, 5.960136
MMPLL,4, 17.960804, 5.960101
MM1B,74.436602
LL Grid Setup
LLGRID,No,No Grid,Yes,255,16711680,0,No Labels,0,16777215,7,1,Yes,x
Other Grid Setup
GRGRID,No,No Grid,Yes,255,16711680,No Labels,0,16777215,8,1,Yes,No,No,x
MOP,Map Open Position,0,0
IWH,Map Image Width/Height,2500,1250
