OziExplorer Map Data File Version 2.2
IN SALAH__________2800-G31AN.PNG
F:\mapas\africa\Africa Oeste (rusos) 1-500.000\IN SALAH__________2800-G31AN.PNG
1 ,Map Code,
Pulkovo 1942 (1),, 0.0000, 0.0000,WGS 84
Reserved 1
Reserved 2
Magnetic Variation,,,E
Map Projection,Latitude/Longitude,PolyCal,Yes,AutoCalOnly,No,BSBUseWPX,No
Point01,xy, 90, 64,in, deg, 28, 0.0000,N, 0, 0.0000,E, grid, , , ,
Point02,xy, 2065, 79,in, deg, 28, 0.0000,N, 1, 30.0000,E, grid, , , ,
Point03,xy, 4037, 69,in, deg, 28, 0.0000,N, 3, 0.0000,E, grid, , , ,
Point04,xy, 73, 1546,in, deg, 27, 0.0000,N, 0, 0.0000,E, grid, , , ,
Point05,xy, 2065, 1562,in, deg, 27, 0.0000,N, 1, 30.0000,E, grid, , , ,
Point06,xy, 4056, 1553,in, deg, 27, 0.0000,N, 3, 0.0000,E, grid, , , ,
Point07,xy, 57, 3030,in, deg, 26, 0.0000,N, 0, 0.0000,E, grid, , , ,
Point08,xy, 2065, 3044,in, deg, 26, 0.0000,N, 1, 30.0000,E, grid, , , ,
Point09,xy, 4073, 3032,in, deg, 26, 0.0000,N, 3, 0.0000,E, grid, , , ,
Point10,xy, , ,in, deg, , ,, , ,, grid, , , ,
Point11,xy, , ,in, deg, , ,, , ,, grid, , , ,
Point12,xy, , ,in, deg, , ,, , ,, grid, , , ,
Point13,xy, , ,in, deg, , ,, , ,, grid, , , ,
Point14,xy, , ,in, deg, , ,, , ,, grid, , , ,
Point15,xy, , ,in, deg, , ,, , ,, grid, , , ,
Point16,xy, , ,in, deg, , ,, , ,, grid, , , ,
Point17,xy, , ,in, deg, , ,, , ,, grid, , , ,
Point18,xy, , ,in, deg, , ,, , ,, grid, , , ,
Point19,xy, , ,in, deg, , ,, , ,, grid, , , ,
Point20,xy, , ,in, deg, , ,, , ,, grid, , , ,
Point21,xy, , ,in, deg, , ,, , ,, grid, , , ,
Point22,xy, , ,in, deg, , ,, , ,, grid, , , ,
Point23,xy, , ,in, deg, , ,, , ,, grid, , , ,
Point24,xy, , ,in, deg, , ,, , ,, grid, , , ,
Point25,xy, , ,in, deg, , ,, , ,, grid, , , ,
Point26,xy, , ,in, deg, , ,, , ,, grid, , , ,
Point27,xy, , ,in, deg, , ,, , ,, grid, , , ,
Point28,xy, , ,in, deg, , ,, , ,, grid, , , ,
Point29,xy, , ,in, deg, , ,, , ,, grid, , , ,
Point30,xy, , ,in, deg, , ,, , ,, grid, , , ,
Projection Setup,,,,,,,,,,
Map Feature = MF ; Map Comment = MC These follow if they exist
Track File = TF These follow if they exist
Moving Map Parameters = MM? These follow if they exist
MM0,Yes
MMPNUM,4
MMPXY,1,0,0
MMPXY,2,4525,0
MMPXY,3,4572,3094
MMPXY,4,0,3097
MMPLL,1, -0.068918, 28.041785
MMPLL,2, 3.371473, 28.042651
MMPLL,3, 3.372226, 25.954069
MMPLL,4, -0.041589, 25.953954
MM1B,74.617644
LL Grid Setup
LLGRID,No,No Grid,Yes,255,16711680,0,No Labels,0,16777215,7,1,Yes,x
Other Grid Setup
GRGRID,No,No Grid,Yes,255,16711680,No Labels,0,16777215,8,1,Yes,No,No,x
MOP,Map Open Position,0,0
IWH,Map Image Width/Height,100,100
