OziExplorer Map Data File Version 2.2
HASSI MESSAOUD____3206-H32AN.PNG
F:\mapas\africa\Africa Oeste (rusos) 1-500.000\HASSI MESSAOUD____3206-H32AN.PNG
1 ,Map Code,
Pulkovo 1942 (1),, 0.0000, 0.0000,WGS 84
Reserved 1
Reserved 2
Magnetic Variation,,,E
Map Projection,Latitude/Longitude,PolyCal,Yes,AutoCalOnly,No,BSBUseWPX,No
Point01,xy, 100, 68,in, deg, 32, 0.0000,N, 6, 0.0000,E, grid, , , ,
Point02,xy, 1996, 82,in, deg, 32, 0.0000,N, 7, 30.0000,E, grid, , , ,
Point03,xy, 3894, 77,in, deg, 32, 0.0000,N, 9, 0.0000,E, grid, , , ,
Point04,xy, 81, 1551,in, deg, 31, 0.0000,N, 6, 0.0000,E, grid, , , ,
Point05,xy, 1995, 1565,in, deg, 31, 0.0000,N, 7, 30.0000,E, grid, , , ,
Point06,xy, 3912, 1559,in, deg, 31, 0.0000,N, 9, 0.0000,E, grid, , , ,
Point07,xy, 62, 3035,in, deg, 30, 0.0000,N, 6, 0.0000,E, grid, , , ,
Point08,xy, 1998, 3049,in, deg, 30, 0.0000,N, 7, 30.0000,E, grid, , , ,
Point09,xy, 3933, 3041,in, deg, 30, 0.0000,N, 9, 0.0000,E, grid, , , ,
Point10,xy, , ,in, deg, , ,, , ,, grid, , , ,
Point11,xy, , ,in, deg, , ,, , ,, grid, , , ,
Point12,xy, , ,in, deg, , ,, , ,, grid, , , ,
Point13,xy, , ,in, deg, , ,, , ,, grid, , , ,
Point14,xy, , ,in, deg, , ,, , ,, grid, , , ,
Point15,xy, , ,in, deg, , ,, , ,, grid, , , ,
Point16,xy, , ,in, deg, , ,, , ,, grid, , , ,
Point17,xy, , ,in, deg, , ,, , ,, grid, , , ,
Point18,xy, , ,in, deg, , ,, , ,, grid, , , ,
Point19,xy, , ,in, deg, , ,, , ,, grid, , , ,
Point20,xy, , ,in, deg, , ,, , ,, grid, , , ,
Point21,xy, , ,in, deg, , ,, , ,, grid, , , ,
Point22,xy, , ,in, deg, , ,, , ,, grid, , , ,
Point23,xy, , ,in, deg, , ,, , ,, grid, , , ,
Point24,xy, , ,in, deg, , ,, , ,, grid, , , ,
Point25,xy, , ,in, deg, , ,, , ,, grid, , , ,
Point26,xy, , ,in, deg, , ,, , ,, grid, , , ,
Point27,xy, , ,in, deg, , ,, , ,, grid, , , ,
Point28,xy, , ,in, deg, , ,, , ,, grid, , , ,
Point29,xy, , ,in, deg, , ,, , ,, grid, , , ,
Point30,xy, , ,in, deg, , ,, , ,, grid, , , ,
Projection Setup,,,,,,,,,,
Map Feature = MF ; Map Comment = MC These follow if they exist
Track File = TF These follow if they exist
Moving Map Parameters = MM? These follow if they exist
MM0,Yes
MMPNUM,4
MMPXY,1,0,0
MMPXY,2,4374,0
MMPXY,3,4425,3114
MMPXY,4,0,3111
MMPLL,1, 5.919966, 32.044728
MMPLL,2, 9.380438, 32.048747
MMPLL,3, 9.379847, 29.947625
MMPLL,4, 5.952094, 29.948423
MM1B,74.706358
LL Grid Setup
LLGRID,No,No Grid,Yes,255,16711680,0,No Labels,0,16777215,7,1,Yes,x
Other Grid Setup
GRGRID,No,No Grid,Yes,255,16711680,No Labels,0,16777215,8,1,Yes,No,No,x
MOP,Map Open Position,0,0
IWH,Map Image Width/Height,100,100
