OziExplorer Map Data File Version 2.2
HARPER____________0609-B29GN.PNG
F:\mapas\africa\Africa Oeste (rusos) 1-500.000\HARPER____________0609-B29GN.PNG
1 ,Map Code,
Pulkovo 1942 (1),, 0.0000, 0.0000,WGS 84
Reserved 1
Reserved 2
Magnetic Variation,,,E
Map Projection,Latitude/Longitude,PolyCal,Yes,AutoCalOnly,No,BSBUseWPX,No
Point01,xy, 70, 61,in, deg, 6, 0.0000,N, 9, 0.0000,W, grid, , , ,
Point02,xy, 2294, 71,in, deg, 6, 0.0000,N, 7, 30.0000,W, grid, , , ,
Point03,xy, 4518, 76,in, deg, 6, 0.0000,N, 6, 0.0000,W, grid, , , ,
Point04,xy, 65, 1540,in, deg, 5, 0.0000,N, 9, 0.0000,W, grid, , , ,
Point05,xy, 2290, 1552,in, deg, 5, 0.0000,N, 7, 30.0000,W, grid, , , ,
Point06,xy, 4518, 1560,in, deg, 5, 0.0000,N, 6, 0.0000,W, grid, , , ,
Point07,xy, 59, 3020,in, deg, 4, 0.0000,N, 9, 0.0000,W, grid, , , ,
Point08,xy, 2288, 3032,in, deg, 4, 0.0000,N, 7, 30.0000,W, grid, , , ,
Point09,xy, 4520, 3043,in, deg, 4, 0.0000,N, 6, 0.0000,W, grid, , , ,
Point10,xy, , ,in, deg, , ,, , ,, grid, , , ,
Point11,xy, , ,in, deg, , ,, , ,, grid, , , ,
Point12,xy, , ,in, deg, , ,, , ,, grid, , , ,
Point13,xy, , ,in, deg, , ,, , ,, grid, , , ,
Point14,xy, , ,in, deg, , ,, , ,, grid, , , ,
Point15,xy, , ,in, deg, , ,, , ,, grid, , , ,
Point16,xy, , ,in, deg, , ,, , ,, grid, , , ,
Point17,xy, , ,in, deg, , ,, , ,, grid, , , ,
Point18,xy, , ,in, deg, , ,, , ,, grid, , , ,
Point19,xy, , ,in, deg, , ,, , ,, grid, , , ,
Point20,xy, , ,in, deg, , ,, , ,, grid, , , ,
Point21,xy, , ,in, deg, , ,, , ,, grid, , , ,
Point22,xy, , ,in, deg, , ,, , ,, grid, , , ,
Point23,xy, , ,in, deg, , ,, , ,, grid, , , ,
Point24,xy, , ,in, deg, , ,, , ,, grid, , , ,
Point25,xy, , ,in, deg, , ,, , ,, grid, , , ,
Point26,xy, , ,in, deg, , ,, , ,, grid, , , ,
Point27,xy, , ,in, deg, , ,, , ,, grid, , , ,
Point28,xy, , ,in, deg, , ,, , ,, grid, , , ,
Point29,xy, , ,in, deg, , ,, , ,, grid, , , ,
Point30,xy, , ,in, deg, , ,, , ,, grid, , , ,
Projection Setup,,,,,,,,,,
Map Feature = MF ; Map Comment = MC These follow if they exist
Track File = TF These follow if they exist
Moving Map Parameters = MM? These follow if they exist
MM0,Yes
MMPNUM,4
MMPXY,1,0,0
MMPXY,2,5006,0
MMPXY,3,5009,3130
MMPXY,4,0,3105
MMPLL,1, -9.047845, 6.041069
MMPLL,2, -5.671195, 6.052100
MMPLL,3, -5.671257, 3.942373
MMPLL,4, -9.039586, 3.941876
MM1B,74.613657
LL Grid Setup
LLGRID,No,No Grid,Yes,255,16711680,0,No Labels,0,16777215,7,1,Yes,x
Other Grid Setup
GRGRID,No,No Grid,Yes,255,16711680,No Labels,0,16777215,8,1,Yes,No,No,x
MOP,Map Open Position,0,0
IWH,Map Image Width/Height,100,100
