OziExplorer Map Data File Version 2.2
GAROUA____________1012-C33WN.PNG
F:\mapas\africa\Africa Este (rusos) 1-500.000\GAROUA____________1012-C33WN.PNG
1 ,Map Code,
Pulkovo 1942 (1),, 0.0000, 0.0000,WGS 84
Reserved 1
Reserved 2
Magnetic Variation,,,E
Map Projection,Latitude/Longitude,PolyCal,Yes,AutoCalOnly,No,BSBUseWPX,No
Point01,xy, 69, 67,in, deg, 10, 0.0000,N, 12, 0.0000,E, grid, , , ,
Point02,xy, 2277, 64,in, deg, 10, 0.0000,N, 13, 30.0000,E, grid, , , ,
Point03,xy, 4485, 62,in, deg, 10, 0.0000,N, 15, 0.0000,E, grid, , , ,
Point04,xy, 61, 1549,in, deg, 9, 0.0000,N, 12, 0.0000,E, grid, , , ,
Point05,xy, 2276, 1547,in, deg, 9, 0.0000,N, 13, 30.0000,E, grid, , , ,
Point06,xy, 4491, 1542,in, deg, 9, 0.0000,N, 15, 0.0000,E, grid, , , ,
Point07,xy, 55, 3030,in, deg, 8, 0.0000,N, 12, 0.0000,E, grid, , , ,
Point08,xy, 2273, 3028,in, deg, 8, 0.0000,N, 13, 30.0000,E, grid, , , ,
Point09,xy, 4494, 3023,in, deg, 8, 0.0000,N, 15, 0.0000,E, grid, , , ,
Point10,xy, , ,in, deg, , ,, , ,, grid, , , ,
Point11,xy, , ,in, deg, , ,, , ,, grid, , , ,
Point12,xy, , ,in, deg, , ,, , ,, grid, , , ,
Point13,xy, , ,in, deg, , ,, , ,, grid, , , ,
Point14,xy, , ,in, deg, , ,, , ,, grid, , , ,
Point15,xy, , ,in, deg, , ,, , ,, grid, , , ,
Point16,xy, , ,in, deg, , ,, , ,, grid, , , ,
Point17,xy, , ,in, deg, , ,, , ,, grid, , , ,
Point18,xy, , ,in, deg, , ,, , ,, grid, , , ,
Point19,xy, , ,in, deg, , ,, , ,, grid, , , ,
Point20,xy, , ,in, deg, , ,, , ,, grid, , , ,
Point21,xy, , ,in, deg, , ,, , ,, grid, , , ,
Point22,xy, , ,in, deg, , ,, , ,, grid, , , ,
Point23,xy, , ,in, deg, , ,, , ,, grid, , , ,
Point24,xy, , ,in, deg, , ,, , ,, grid, , , ,
Point25,xy, , ,in, deg, , ,, , ,, grid, , , ,
Point26,xy, , ,in, deg, , ,, , ,, grid, , , ,
Point27,xy, , ,in, deg, , ,, , ,, grid, , , ,
Point28,xy, , ,in, deg, , ,, , ,, grid, , , ,
Point29,xy, , ,in, deg, , ,, , ,, grid, , , ,
Point30,xy, , ,in, deg, , ,, , ,, grid, , , ,
Projection Setup,,,,,,,,,,
Map Feature = MF ; Map Comment = MC These follow if they exist
Track File = TF These follow if they exist
Moving Map Parameters = MM? These follow if they exist
MM0,Yes
MMPNUM,4
MMPXY,1,0,0
MMPXY,2,4965,0
MMPXY,3,4977,3085
MMPXY,4,0,3094
MMPLL,1, 11.953086, 10.045026
MMPLL,2, 15.325646, 10.040778
MMPLL,3, 15.326015, 7.957337
MMPLL,4, 11.963571, 7.957086
MM1B,74.375092
LL Grid Setup
LLGRID,No,No Grid,Yes,255,16711680,0,No Labels,0,16777215,7,1,Yes,x
Other Grid Setup
GRGRID,No,No Grid,Yes,255,16711680,No Labels,0,16777215,8,1,Yes,No,No,x
MOP,Map Open Position,0,0
IWH,Map Image Width/Height,2500,1250
