OziExplorer Map Data File Version 2.2
GALTAT ZEMMOUR____2615-G28GN.PNG
F:\mapas\africa\Africa Oeste (rusos) 1-500.000\GALTAT ZEMMOUR____2615-G28GN.PNG
1 ,Map Code,
Pulkovo 1942 (1),, 0.0000, 0.0000,WGS 84
Reserved 1
Reserved 2
Magnetic Variation,,,E
Map Projection,Latitude/Longitude,PolyCal,Yes,AutoCalOnly,No,BSBUseWPX,No
Point01,xy, 102, 64,in, deg, 26, 0.0000,N, 15, 0.0000,W, grid, , , ,
Point02,xy, 2114, 81,in, deg, 26, 0.0000,N, 13, 30.0000,W, grid, , , ,
Point03,xy, 4127, 79,in, deg, 26, 0.0000,N, 12, 0.0000,W, grid, , , ,
Point04,xy, 84, 1545,in, deg, 25, 0.0000,N, 15, 0.0000,W, grid, , , ,
Point05,xy, 2111, 1563,in, deg, 25, 0.0000,N, 13, 30.0000,W, grid, , , ,
Point06,xy, 4138, 1562,in, deg, 25, 0.0000,N, 12, 0.0000,W, grid, , , ,
Point07,xy, 63, 3028,in, deg, 24, 0.0000,N, 15, 0.0000,W, grid, , , ,
Point08,xy, 2109, 3045,in, deg, 24, 0.0000,N, 13, 30.0000,W, grid, , , ,
Point09,xy, 4151, 3047,in, deg, 24, 0.0000,N, 12, 0.0000,W, grid, , , ,
Point10,xy, , ,in, deg, , ,, , ,, grid, , , ,
Point11,xy, , ,in, deg, , ,, , ,, grid, , , ,
Point12,xy, , ,in, deg, , ,, , ,, grid, , , ,
Point13,xy, , ,in, deg, , ,, , ,, grid, , , ,
Point14,xy, , ,in, deg, , ,, , ,, grid, , , ,
Point15,xy, , ,in, deg, , ,, , ,, grid, , , ,
Point16,xy, , ,in, deg, , ,, , ,, grid, , , ,
Point17,xy, , ,in, deg, , ,, , ,, grid, , , ,
Point18,xy, , ,in, deg, , ,, , ,, grid, , , ,
Point19,xy, , ,in, deg, , ,, , ,, grid, , , ,
Point20,xy, , ,in, deg, , ,, , ,, grid, , , ,
Point21,xy, , ,in, deg, , ,, , ,, grid, , , ,
Point22,xy, , ,in, deg, , ,, , ,, grid, , , ,
Point23,xy, , ,in, deg, , ,, , ,, grid, , , ,
Point24,xy, , ,in, deg, , ,, , ,, grid, , , ,
Point25,xy, , ,in, deg, , ,, , ,, grid, , , ,
Point26,xy, , ,in, deg, , ,, , ,, grid, , , ,
Point27,xy, , ,in, deg, , ,, , ,, grid, , , ,
Point28,xy, , ,in, deg, , ,, , ,, grid, , , ,
Point29,xy, , ,in, deg, , ,, , ,, grid, , , ,
Point30,xy, , ,in, deg, , ,, , ,, grid, , , ,
Projection Setup,,,,,,,,,,
Map Feature = MF ; Map Comment = MC These follow if they exist
Track File = TF These follow if they exist
Moving Map Parameters = MM? These follow if they exist
MM0,Yes
MMPNUM,4
MMPXY,1,0,0
MMPXY,2,4626,0
MMPXY,3,4661,3129
MMPXY,4,0,3111
MMPLL,1, -15.076694, 26.042501
MMPLL,2, -11.626604, 26.051360
MMPLL,3, -11.626200, 23.942753
MMPLL,4, -15.046076, 23.943165
MM1B,74.506097
LL Grid Setup
LLGRID,No,No Grid,Yes,255,16711680,0,No Labels,0,16777215,7,1,Yes,x
Other Grid Setup
GRGRID,No,No Grid,Yes,255,16711680,No Labels,0,16777215,8,1,Yes,No,No,x
MOP,Map Open Position,0,0
IWH,Map Image Width/Height,100,100
