OziExplorer Map Data File Version 2.2
GABON.PNG
F:\mapas\africa\Africa Oeste (rusos) 1-500.000\GABON.PNG
1 ,Map Code,
WGS 84,, 0.0000, 0.0000,WGS 84
Reserved 1
Reserved 2
Magnetic Variation,,,E
Map Projection,Latitude/Longitude,PolyCal,Yes,AutoCalOnly,No,BSBUseWPX,No
Point01,xy, 233, 211,in, deg, 2, 0.0000,N, 10, 0.0000,E, grid, , , ,
Point02,xy, 547, 212,in, deg, 2, 0.0000,N, 12, 0.0000,E, grid, , , ,
Point03,xy, 861, 211,in, deg, 2, 0.0000,N, 14, 0.0000,E, grid, , , ,
Point04,xy, 234, 679,in, deg, 1, 0.0000,S, 10, 0.0000,E, grid, , , ,
Point05,xy, 547, 679,in, deg, 1, 0.0000,S, 12, 0.0000,E, grid, , , ,
Point06,xy, 861, 679,in, deg, 1, 0.0000,S, 14, 0.0000,E, grid, , , ,
Point07,xy, 236, 1144,in, deg, 4, 0.0000,S, 10, 0.0000,E, grid, , , ,
Point08,xy, 548, 1145,in, deg, 4, 0.0000,S, 12, 0.0000,E, grid, , , ,
Point09,xy, 861, 1145,in, deg, 4, 0.0000,S, 14, 0.0000,E, grid, , , ,
Point10,xy, , ,in, deg, , ,, , ,, grid, , , ,
Point11,xy, , ,in, deg, , ,, , ,, grid, , , ,
Point12,xy, , ,in, deg, , ,, , ,, grid, , , ,
Point13,xy, , ,in, deg, , ,, , ,, grid, , , ,
Point14,xy, , ,in, deg, , ,, , ,, grid, , , ,
Point15,xy, , ,in, deg, , ,, , ,, grid, , , ,
Point16,xy, , ,in, deg, , ,, , ,, grid, , , ,
Point17,xy, , ,in, deg, , ,, , ,, grid, , , ,
Point18,xy, , ,in, deg, , ,, , ,, grid, , , ,
Point19,xy, , ,in, deg, , ,, , ,, grid, , , ,
Point20,xy, , ,in, deg, , ,, , ,, grid, , , ,
Point21,xy, , ,in, deg, , ,, , ,, grid, , , ,
Point22,xy, , ,in, deg, , ,, , ,, grid, , , ,
Point23,xy, , ,in, deg, , ,, , ,, grid, , , ,
Point24,xy, , ,in, deg, , ,, , ,, grid, , , ,
Point25,xy, , ,in, deg, , ,, , ,, grid, , , ,
Point26,xy, , ,in, deg, , ,, , ,, grid, , , ,
Point27,xy, , ,in, deg, , ,, , ,, grid, , , ,
Point28,xy, , ,in, deg, , ,, , ,, grid, , , ,
Point29,xy, , ,in, deg, , ,, , ,, grid, , , ,
Point30,xy, , ,in, deg, , ,, , ,, grid, , , ,
Projection Setup,,,,,,,,,,
Map Feature = MF ; Map Comment = MC These follow if they exist
Track File = TF These follow if they exist
Moving Map Parameters = MM? These follow if they exist
MM0,Yes
MMPNUM,4
MMPXY,1,0,1
MMPXY,2,990,1
MMPXY,3,989,1283
MMPXY,4,0,1281
MMPLL,1, 8.515111, 3.339687
MMPLL,2, 14.814695, 3.339136
MMPLL,3, 14.815991, -4.893469
MMPLL,4, 8.481173, -4.894194
MM1B,707.779450
LL Grid Setup
LLGRID,No,No Grid,Yes,255,16711680,0,No Labels,0,16777215,7,1,Yes,x
Other Grid Setup
GRGRID,No,No Grid,Yes,255,16711680,No Labels,0,16777215,8,1,Yes,No,No,x
MOP,Map Open Position,0,0
IWH,Map Image Width/Height,100,100
