OziExplorer Map Data File Version 2.2
FIGUIG____________3403-I30GN.PNG
F:\mapas\africa\Africa Oeste (rusos) 1-500.000\FIGUIG____________3403-I30GN.PNG
1 ,Map Code,
Pulkovo 1942 (1),, 0.0000, 0.0000,WGS 84
Reserved 1
Reserved 2
Magnetic Variation,,,E
Map Projection,Latitude/Longitude,PolyCal,Yes,AutoCalOnly,No,BSBUseWPX,No
Point01,xy, 91, 72,in, deg, 34, 0.0000,N, 3, 0.0000,W, grid, , , ,
Point02,xy, 1939, 85,in, deg, 34, 0.0000,N, 1, 30.0000,W, grid, , , ,
Point03,xy, 3791, 70,in, deg, 34, 0.0000,N, 0, 0.0000,E, grid, , , ,
Point04,xy, 75, 1557,in, deg, 33, 0.0000,N, 3, 0.0000,W, grid, , , ,
Point05,xy, 1942, 1570,in, deg, 33, 0.0000,N, 1, 30.0000,W, grid, , , ,
Point06,xy, 3815, 1557,in, deg, 33, 0.0000,N, 0, 0.0000,E, grid, , , ,
Point07,xy, 57, 3041,in, deg, 32, 0.0000,N, 3, 0.0000,W, grid, , , ,
Point08,xy, 1946, 3057,in, deg, 32, 0.0000,N, 1, 30.0000,W, grid, , , ,
Point09,xy, 3837, 3045,in, deg, 32, 0.0000,N, 0, 0.0000,E, grid, , , ,
Point10,xy, , ,in, deg, , ,, , ,, grid, , , ,
Point11,xy, , ,in, deg, , ,, , ,, grid, , , ,
Point12,xy, , ,in, deg, , ,, , ,, grid, , , ,
Point13,xy, , ,in, deg, , ,, , ,, grid, , , ,
Point14,xy, , ,in, deg, , ,, , ,, grid, , , ,
Point15,xy, , ,in, deg, , ,, , ,, grid, , , ,
Point16,xy, , ,in, deg, , ,, , ,, grid, , , ,
Point17,xy, , ,in, deg, , ,, , ,, grid, , , ,
Point18,xy, , ,in, deg, , ,, , ,, grid, , , ,
Point19,xy, , ,in, deg, , ,, , ,, grid, , , ,
Point20,xy, , ,in, deg, , ,, , ,, grid, , , ,
Point21,xy, , ,in, deg, , ,, , ,, grid, , , ,
Point22,xy, , ,in, deg, , ,, , ,, grid, , , ,
Point23,xy, , ,in, deg, , ,, , ,, grid, , , ,
Point24,xy, , ,in, deg, , ,, , ,, grid, , , ,
Point25,xy, , ,in, deg, , ,, , ,, grid, , , ,
Point26,xy, , ,in, deg, , ,, , ,, grid, , , ,
Point27,xy, , ,in, deg, , ,, , ,, grid, , , ,
Point28,xy, , ,in, deg, , ,, , ,, grid, , , ,
Point29,xy, , ,in, deg, , ,, , ,, grid, , , ,
Point30,xy, , ,in, deg, , ,, , ,, grid, , , ,
Projection Setup,,,,,,,,,,
Map Feature = MF ; Map Comment = MC These follow if they exist
Track File = TF These follow if they exist
Moving Map Parameters = MM? These follow if they exist
MM0,Yes
MMPNUM,4
MMPXY,1,0,0
MMPXY,2,4396,0
MMPXY,3,4459,3107
MMPXY,4,0,3111
MMPLL,1, -3.074601, 34.047813
MMPLL,2, 0.490298, 34.039782
MMPLL,3, 0.491078, 31.951723
MMPLL,4, -3.044903, 31.952457
MM1B,75.004966
LL Grid Setup
LLGRID,No,No Grid,Yes,255,16711680,0,No Labels,0,16777215,7,1,Yes,x
Other Grid Setup
GRGRID,No,No Grid,Yes,255,16711680,No Labels,0,16777215,8,1,Yes,No,No,x
MOP,Map Open Position,0,0
IWH,Map Image Width/Height,100,100
