OziExplorer Map Data File Version 2.2
ER RACHIDIA_______3206-H30AN.PNG
F:\mapas\africa\Africa Oeste (rusos) 1-500.000\ER RACHIDIA_______3206-H30AN.PNG
1 ,Map Code,
Pulkovo 1942 (1),, 0.0000, 0.0000,WGS 84
Reserved 1
Reserved 2
Magnetic Variation,,,E
Map Projection,Latitude/Longitude,PolyCal,Yes,AutoCalOnly,No,BSBUseWPX,No
Point01,xy, 91, 64,in, deg, 32, 0.0000,N, 6, 0.0000,W, grid, , , ,
Point02,xy, 1993, 78,in, deg, 32, 0.0000,N, 4, 30.0000,W, grid, , , ,
Point03,xy, 3885, 65,in, deg, 32, 0.0000,N, 3, 0.0000,W, grid, , , ,
Point04,xy, 75, 1548,in, deg, 31, 0.0000,N, 6, 0.0000,W, grid, , , ,
Point05,xy, 1996, 1558,in, deg, 31, 0.0000,N, 4, 30.0000,W, grid, , , ,
Point06,xy, 3909, 1548,in, deg, 31, 0.0000,N, 3, 0.0000,W, grid, , , ,
Point07,xy, 60, 3031,in, deg, 30, 0.0000,N, 6, 0.0000,W, grid, , , ,
Point08,xy, 1999, 3040,in, deg, 30, 0.0000,N, 4, 30.0000,W, grid, , , ,
Point09,xy, 3931, 3031,in, deg, 30, 0.0000,N, 3, 0.0000,W, grid, , , ,
Point10,xy, , ,in, deg, , ,, , ,, grid, , , ,
Point11,xy, , ,in, deg, , ,, , ,, grid, , , ,
Point12,xy, , ,in, deg, , ,, , ,, grid, , , ,
Point13,xy, , ,in, deg, , ,, , ,, grid, , , ,
Point14,xy, , ,in, deg, , ,, , ,, grid, , , ,
Point15,xy, , ,in, deg, , ,, , ,, grid, , , ,
Point16,xy, , ,in, deg, , ,, , ,, grid, , , ,
Point17,xy, , ,in, deg, , ,, , ,, grid, , , ,
Point18,xy, , ,in, deg, , ,, , ,, grid, , , ,
Point19,xy, , ,in, deg, , ,, , ,, grid, , , ,
Point20,xy, , ,in, deg, , ,, , ,, grid, , , ,
Point21,xy, , ,in, deg, , ,, , ,, grid, , , ,
Point22,xy, , ,in, deg, , ,, , ,, grid, , , ,
Point23,xy, , ,in, deg, , ,, , ,, grid, , , ,
Point24,xy, , ,in, deg, , ,, , ,, grid, , , ,
Point25,xy, , ,in, deg, , ,, , ,, grid, , , ,
Point26,xy, , ,in, deg, , ,, , ,, grid, , , ,
Point27,xy, , ,in, deg, , ,, , ,, grid, , , ,
Point28,xy, , ,in, deg, , ,, , ,, grid, , , ,
Point29,xy, , ,in, deg, , ,, , ,, grid, , , ,
Point30,xy, , ,in, deg, , ,, , ,, grid, , , ,
Projection Setup,,,,,,,,,,
Map Feature = MF ; Map Comment = MC These follow if they exist
Track File = TF These follow if they exist
Moving Map Parameters = MM? These follow if they exist
MM0,Yes
MMPNUM,4
MMPXY,1,0,1
MMPXY,2,4521,0
MMPXY,3,4583,3117
MMPXY,4,0,3125
MMPLL,1, -6.072191, 32.042420
MMPLL,2, -2.494081, 32.038740
MMPLL,3, -2.493683, 29.935737
MMPLL,4, -6.045101, 29.935819
MM1B,74.312765
LL Grid Setup
LLGRID,No,No Grid,Yes,255,16711680,0,No Labels,0,16777215,7,1,Yes,x
Other Grid Setup
GRGRID,No,No Grid,Yes,255,16711680,No Labels,0,16777215,8,1,Yes,No,No,x
MOP,Map Open Position,0,0
IWH,Map Image Width/Height,100,100
