OziExplorer Map Data File Version 2.2
ENUGU_____________0806-B32AN.PNG
F:\mapas\africa\Africa Oeste (rusos) 1-500.000\ENUGU_____________0806-B32AN.PNG
1 ,Map Code,
Pulkovo 1942 (1),, 0.0000, 0.0000,WGS 84
Reserved 1
Reserved 2
Magnetic Variation,,,E
Map Projection,Latitude/Longitude,PolyCal,Yes,AutoCalOnly,No,BSBUseWPX,No
Point01,xy, 62, 73,in, deg, 8, 0.0000,N, 6, 0.0000,E, grid, , , ,
Point02,xy, 2282, 70,in, deg, 8, 0.0000,N, 7, 30.0000,E, grid, , , ,
Point03,xy, 4495, 65,in, deg, 8, 0.0000,N, 9, 0.0000,E, grid, , , ,
Point04,xy, 64, 1553,in, deg, 7, 0.0000,N, 6, 0.0000,E, grid, , , ,
Point05,xy, 2289, 1550,in, deg, 7, 0.0000,N, 7, 30.0000,E, grid, , , ,
Point06,xy, 4508, 1544,in, deg, 7, 0.0000,N, 9, 0.0000,E, grid, , , ,
Point07,xy, 66, 3033,in, deg, 6, 0.0000,N, 6, 0.0000,E, grid, , , ,
Point08,xy, 2296, 3034,in, deg, 6, 0.0000,N, 7, 30.0000,E, grid, , , ,
Point09,xy, 4518, 3022,in, deg, 6, 0.0000,N, 9, 0.0000,E, grid, , , ,
Point10,xy, , ,in, deg, , ,, , ,, grid, , , ,
Point11,xy, , ,in, deg, , ,, , ,, grid, , , ,
Point12,xy, , ,in, deg, , ,, , ,, grid, , , ,
Point13,xy, , ,in, deg, , ,, , ,, grid, , , ,
Point14,xy, , ,in, deg, , ,, , ,, grid, , , ,
Point15,xy, , ,in, deg, , ,, , ,, grid, , , ,
Point16,xy, , ,in, deg, , ,, , ,, grid, , , ,
Point17,xy, , ,in, deg, , ,, , ,, grid, , , ,
Point18,xy, , ,in, deg, , ,, , ,, grid, , , ,
Point19,xy, , ,in, deg, , ,, , ,, grid, , , ,
Point20,xy, , ,in, deg, , ,, , ,, grid, , , ,
Point21,xy, , ,in, deg, , ,, , ,, grid, , , ,
Point22,xy, , ,in, deg, , ,, , ,, grid, , , ,
Point23,xy, , ,in, deg, , ,, , ,, grid, , , ,
Point24,xy, , ,in, deg, , ,, , ,, grid, , , ,
Point25,xy, , ,in, deg, , ,, , ,, grid, , , ,
Point26,xy, , ,in, deg, , ,, , ,, grid, , , ,
Point27,xy, , ,in, deg, , ,, , ,, grid, , , ,
Point28,xy, , ,in, deg, , ,, , ,, grid, , , ,
Point29,xy, , ,in, deg, , ,, , ,, grid, , , ,
Point30,xy, , ,in, deg, , ,, , ,, grid, , , ,
Projection Setup,,,,,,,,,,
Map Feature = MF ; Map Comment = MC These follow if they exist
Track File = TF These follow if they exist
Moving Map Parameters = MM? These follow if they exist
MM0,Yes
MMPNUM,4
MMPXY,1,0,0
MMPXY,2,4990,0
MMPXY,3,5016,3101
MMPXY,4,0,3114
MMPLL,1, 5.958447, 8.048780
MMPLL,2, 9.336350, 8.041971
MMPLL,3, 9.336010, 5.945647
MMPLL,4, 5.955695, 5.946060
MM1B,74.237764
LL Grid Setup
LLGRID,No,No Grid,Yes,255,16711680,0,No Labels,0,16777215,7,1,Yes,x
Other Grid Setup
GRGRID,No,No Grid,Yes,255,16711680,No Labels,0,16777215,8,1,Yes,No,No,x
MOP,Map Open Position,0,0
IWH,Map Image Width/Height,100,100
