OziExplorer Map Data File Version 2.2
DOUENTZA__________1603-D30BN.PNG
F:\mapas\africa\Africa Oeste (rusos) 1-500.000\DOUENTZA__________1603-D30BN.PNG
1 ,Map Code,
Pulkovo 1942 (1),, 0.0000, 0.0000,WGS 84
Reserved 1
Reserved 2
Magnetic Variation,,,E
Map Projection,Latitude/Longitude,PolyCal,Yes,AutoCalOnly,No,BSBUseWPX,No
Point01,xy, 91, 70,in, deg, 16, 0.0000,N, 3, 0.0000,W, grid, , , ,
Point02,xy, 2242, 80,in, deg, 16, 0.0000,N, 1, 30.0000,W, grid, , , ,
Point03,xy, 4392, 73,in, deg, 16, 0.0000,N, 0, 0.0000,E, grid, , , ,
Point04,xy, 83, 1551,in, deg, 15, 0.0000,N, 3, 0.0000,W, grid, , , ,
Point05,xy, 2244, 1560,in, deg, 15, 0.0000,N, 1, 30.0000,W, grid, , , ,
Point06,xy, 4402, 1557,in, deg, 15, 0.0000,N, 0, 0.0000,E, grid, , , ,
Point07,xy, 74, 3030,in, deg, 14, 0.0000,N, 3, 0.0000,W, grid, , , ,
Point08,xy, 2245, 3041,in, deg, 14, 0.0000,N, 1, 30.0000,W, grid, , , ,
Point09,xy, 4415, 3038,in, deg, 14, 0.0000,N, 0, 0.0000,E, grid, , , ,
Point10,xy, , ,in, deg, , ,, , ,, grid, , , ,
Point11,xy, , ,in, deg, , ,, , ,, grid, , , ,
Point12,xy, , ,in, deg, , ,, , ,, grid, , , ,
Point13,xy, , ,in, deg, , ,, , ,, grid, , , ,
Point14,xy, , ,in, deg, , ,, , ,, grid, , , ,
Point15,xy, , ,in, deg, , ,, , ,, grid, , , ,
Point16,xy, , ,in, deg, , ,, , ,, grid, , , ,
Point17,xy, , ,in, deg, , ,, , ,, grid, , , ,
Point18,xy, , ,in, deg, , ,, , ,, grid, , , ,
Point19,xy, , ,in, deg, , ,, , ,, grid, , , ,
Point20,xy, , ,in, deg, , ,, , ,, grid, , , ,
Point21,xy, , ,in, deg, , ,, , ,, grid, , , ,
Point22,xy, , ,in, deg, , ,, , ,, grid, , , ,
Point23,xy, , ,in, deg, , ,, , ,, grid, , , ,
Point24,xy, , ,in, deg, , ,, , ,, grid, , , ,
Point25,xy, , ,in, deg, , ,, , ,, grid, , , ,
Point26,xy, , ,in, deg, , ,, , ,, grid, , , ,
Point27,xy, , ,in, deg, , ,, , ,, grid, , , ,
Point28,xy, , ,in, deg, , ,, , ,, grid, , , ,
Point29,xy, , ,in, deg, , ,, , ,, grid, , , ,
Point30,xy, , ,in, deg, , ,, , ,, grid, , , ,
Projection Setup,,,,,,,,,,
Map Feature = MF ; Map Comment = MC These follow if they exist
Track File = TF These follow if they exist
Moving Map Parameters = MM? These follow if they exist
MM0,Yes
MMPNUM,4
MMPXY,1,0,0
MMPXY,2,4888,0
MMPXY,3,4917,3136
MMPXY,4,0,3130
MMPLL,1, -3.063892, 16.047041
MMPLL,2, 0.347074, 16.047304
MMPLL,3, 0.346917, 13.931995
MMPLL,4, -3.050862, 13.931834
MM1B,74.494558
LL Grid Setup
LLGRID,No,No Grid,Yes,255,16711680,0,No Labels,0,16777215,7,1,Yes,x
Other Grid Setup
GRGRID,No,No Grid,Yes,255,16711680,No Labels,0,16777215,8,1,Yes,No,No,x
MOP,Map Open Position,0,0
IWH,Map Image Width/Height,100,100
