OziExplorer Map Data File Version 2.2
DESE______________1239-C37BN.PNG
F:\mapas\africa\Africa Este (rusos) 1-500.000\DESE______________1239-C37BN.PNG
1 ,Map Code,
Pulkovo 1942 (1),, 0.0000, 0.0000,WGS 84
Reserved 1
Reserved 2
Magnetic Variation,,,E
Map Projection,Latitude/Longitude,PolyCal,Yes,AutoCalOnly,No,BSBUseWPX,No
Point01,xy, 86, 62,in, deg, 12, 0.0000,N, 39, 0.0000,E, grid, , , ,
Point02,xy, 2276, 75,in, deg, 12, 0.0000,N, 40, 30.0000,E, grid, , , ,
Point03,xy, 4468, 68,in, deg, 12, 0.0000,N, 42, 0.0000,E, grid, , , ,
Point04,xy, 74, 1542,in, deg, 11, 0.0000,N, 39, 0.0000,E, grid, , , ,
Point05,xy, 2272, 1554,in, deg, 11, 0.0000,N, 40, 30.0000,E, grid, , , ,
Point06,xy, 4469, 1549,in, deg, 11, 0.0000,N, 42, 0.0000,E, grid, , , ,
Point07,xy, 62, 3022,in, deg, 10, 0.0000,N, 39, 0.0000,E, grid, , , ,
Point08,xy, 2266, 3032,in, deg, 10, 0.0000,N, 40, 30.0000,E, grid, , , ,
Point09,xy, 4472, 3029,in, deg, 10, 0.0000,N, 42, 0.0000,E, grid, , , ,
Point10,xy, , ,in, deg, , ,, , ,, grid, , , ,
Point11,xy, , ,in, deg, , ,, , ,, grid, , , ,
Point12,xy, , ,in, deg, , ,, , ,, grid, , , ,
Point13,xy, , ,in, deg, , ,, , ,, grid, , , ,
Point14,xy, , ,in, deg, , ,, , ,, grid, , , ,
Point15,xy, , ,in, deg, , ,, , ,, grid, , , ,
Point16,xy, , ,in, deg, , ,, , ,, grid, , , ,
Point17,xy, , ,in, deg, , ,, , ,, grid, , , ,
Point18,xy, , ,in, deg, , ,, , ,, grid, , , ,
Point19,xy, , ,in, deg, , ,, , ,, grid, , , ,
Point20,xy, , ,in, deg, , ,, , ,, grid, , , ,
Point21,xy, , ,in, deg, , ,, , ,, grid, , , ,
Point22,xy, , ,in, deg, , ,, , ,, grid, , , ,
Point23,xy, , ,in, deg, , ,, , ,, grid, , , ,
Point24,xy, , ,in, deg, , ,, , ,, grid, , , ,
Point25,xy, , ,in, deg, , ,, , ,, grid, , , ,
Point26,xy, , ,in, deg, , ,, , ,, grid, , , ,
Point27,xy, , ,in, deg, , ,, , ,, grid, , , ,
Point28,xy, , ,in, deg, , ,, , ,, grid, , , ,
Point29,xy, , ,in, deg, , ,, , ,, grid, , , ,
Point30,xy, , ,in, deg, , ,, , ,, grid, , , ,
Projection Setup,,,,,,,,,,
Map Feature = MF ; Map Comment = MC These follow if they exist
Track File = TF These follow if they exist
Moving Map Parameters = MM? These follow if they exist
MM0,Yes
MMPNUM,4
MMPXY,1,0,0
MMPXY,2,4951,1
MMPXY,3,4958,3095
MMPXY,4,0,3090
MMPLL,1, 38.940740, 12.041673
MMPLL,2, 42.330862, 12.043384
MMPLL,3, 42.330584, 9.952804
MMPLL,4, 38.958189, 9.953159
MM1B,74.469471
LL Grid Setup
LLGRID,No,No Grid,Yes,255,16711680,0,No Labels,0,16777215,7,1,Yes,x
Other Grid Setup
GRGRID,No,No Grid,Yes,255,16711680,No Labels,0,16777215,8,1,Yes,No,No,x
MOP,Map Open Position,0,0
IWH,Map Image Width/Height,2500,1250
