OziExplorer Map Data File Version 2.2
DANANE____________0245-A38GN.PNG
F:\mapas\africa\Africa Este (rusos) 1-500.000\DANANE____________0245-A38GN.PNG
1 ,Map Code,
Pulkovo 1942 (1),, 0.0000, 0.0000,WGS 84
Reserved 1
Reserved 2
Magnetic Variation,,,E
Map Projection,Latitude/Longitude,PolyCal,Yes,AutoCalOnly,No,BSBUseWPX,No
Point01,xy, 77, 71,in, deg, 2, 0.0000,N, 45, 0.0000,E, grid, , , ,
Point02,xy, 2319, 70,in, deg, 2, 0.0000,N, 46, 30.0000,E, grid, , , ,
Point03,xy, 4561, 68,in, deg, 2, 0.0000,N, 48, 0.0000,E, grid, , , ,
Point04,xy, 75, 1549,in, deg, 1, 0.0000,N, 45, 0.0000,E, grid, , , ,
Point05,xy, 2316, 1549,in, deg, 1, 0.0000,N, 46, 30.0000,E, grid, , , ,
Point06,xy, 4558, 1549,in, deg, 1, 0.0000,N, 48, 0.0000,E, grid, , , ,
Point07,xy, 73, 3032,in, deg, 0, 0.0000,N, 45, 0.0000,E, grid, , , ,
Point08,xy, 2313, 3029,in, deg, 0, 0.0000,N, 46, 30.0000,E, grid, , , ,
Point09,xy, 4555, 3029,in, deg, 0, 0.0000,N, 48, 0.0000,E, grid, , , ,
Point10,xy, , ,in, deg, , ,, , ,, grid, , , ,
Point11,xy, , ,in, deg, , ,, , ,, grid, , , ,
Point12,xy, , ,in, deg, , ,, , ,, grid, , , ,
Point13,xy, , ,in, deg, , ,, , ,, grid, , , ,
Point14,xy, , ,in, deg, , ,, , ,, grid, , , ,
Point15,xy, , ,in, deg, , ,, , ,, grid, , , ,
Point16,xy, , ,in, deg, , ,, , ,, grid, , , ,
Point17,xy, , ,in, deg, , ,, , ,, grid, , , ,
Point18,xy, , ,in, deg, , ,, , ,, grid, , , ,
Point19,xy, , ,in, deg, , ,, , ,, grid, , , ,
Point20,xy, , ,in, deg, , ,, , ,, grid, , , ,
Point21,xy, , ,in, deg, , ,, , ,, grid, , , ,
Point22,xy, , ,in, deg, , ,, , ,, grid, , , ,
Point23,xy, , ,in, deg, , ,, , ,, grid, , , ,
Point24,xy, , ,in, deg, , ,, , ,, grid, , , ,
Point25,xy, , ,in, deg, , ,, , ,, grid, , , ,
Point26,xy, , ,in, deg, , ,, , ,, grid, , , ,
Point27,xy, , ,in, deg, , ,, , ,, grid, , , ,
Point28,xy, , ,in, deg, , ,, , ,, grid, , , ,
Point29,xy, , ,in, deg, , ,, , ,, grid, , , ,
Point30,xy, , ,in, deg, , ,, , ,, grid, , , ,
Projection Setup,,,,,,,,,,
Map Feature = MF ; Map Comment = MC These follow if they exist
Track File = TF These follow if they exist
Moving Map Parameters = MM? These follow if they exist
MM0,Yes
MMPNUM,4
MMPXY,1,0,0
MMPXY,2,5017,0
MMPXY,3,5010,3093
MMPXY,4,0,3095
MMPLL,1, 44.948280, 2.047912
MMPLL,2, 48.304722, 2.046483
MMPLL,3, 48.304608, -0.043150
MMPLL,4, 44.951289, -0.043077
MM1B,74.329611
LL Grid Setup
LLGRID,No,No Grid,Yes,255,16711680,0,No Labels,0,16777215,7,1,Yes,x
Other Grid Setup
GRGRID,No,No Grid,Yes,255,16711680,No Labels,0,16777215,8,1,Yes,No,No,x
MOP,Map Open Position,0,0
IWH,Map Image Width/Height,2500,1250
