OziExplorer Map Data File Version 2.2
BURCO_____________1045-C38GN.PNG
F:\mapas\africa\Africa Este (rusos) 1-500.000\BURCO_____________1045-C38GN.PNG
1 ,Map Code,
Pulkovo 1942 (1),, 0.0000, 0.0000,WGS 84
Reserved 1
Reserved 2
Magnetic Variation,,,E
Map Projection,Latitude/Longitude,PolyCal,Yes,AutoCalOnly,No,BSBUseWPX,No
Point01,xy, 96, 67,in, deg, 10, 0.0000,N, 45, 0.0000,E, grid, , , ,
Point02,xy, 2305, 80,in, deg, 10, 0.0000,N, 46, 30.0000,E, grid, , , ,
Point03,xy, 4511, 80,in, deg, 10, 0.0000,N, 48, 0.0000,E, grid, , , ,
Point04,xy, 82, 1546,in, deg, 9, 0.0000,N, 45, 0.0000,E, grid, , , ,
Point05,xy, 2295, 1560,in, deg, 9, 0.0000,N, 46, 30.0000,E, grid, , , ,
Point06,xy, 4508, 1560,in, deg, 9, 0.0000,N, 48, 0.0000,E, grid, , , ,
Point07,xy, 67, 3025,in, deg, 8, 0.0000,N, 45, 0.0000,E, grid, , , ,
Point08,xy, 2287, 3038,in, deg, 8, 0.0000,N, 46, 30.0000,E, grid, , , ,
Point09,xy, 4503, 3043,in, deg, 8, 0.0000,N, 48, 0.0000,E, grid, , , ,
Point10,xy, , ,in, deg, , ,, , ,, grid, , , ,
Point11,xy, , ,in, deg, , ,, , ,, grid, , , ,
Point12,xy, , ,in, deg, , ,, , ,, grid, , , ,
Point13,xy, , ,in, deg, , ,, , ,, grid, , , ,
Point14,xy, , ,in, deg, , ,, , ,, grid, , , ,
Point15,xy, , ,in, deg, , ,, , ,, grid, , , ,
Point16,xy, , ,in, deg, , ,, , ,, grid, , , ,
Point17,xy, , ,in, deg, , ,, , ,, grid, , , ,
Point18,xy, , ,in, deg, , ,, , ,, grid, , , ,
Point19,xy, , ,in, deg, , ,, , ,, grid, , , ,
Point20,xy, , ,in, deg, , ,, , ,, grid, , , ,
Point21,xy, , ,in, deg, , ,, , ,, grid, , , ,
Point22,xy, , ,in, deg, , ,, , ,, grid, , , ,
Point23,xy, , ,in, deg, , ,, , ,, grid, , , ,
Point24,xy, , ,in, deg, , ,, , ,, grid, , , ,
Point25,xy, , ,in, deg, , ,, , ,, grid, , , ,
Point26,xy, , ,in, deg, , ,, , ,, grid, , , ,
Point27,xy, , ,in, deg, , ,, , ,, grid, , , ,
Point28,xy, , ,in, deg, , ,, , ,, grid, , , ,
Point29,xy, , ,in, deg, , ,, , ,, grid, , , ,
Point30,xy, , ,in, deg, , ,, , ,, grid, , , ,
Projection Setup,,,,,,,,,,
Map Feature = MF ; Map Comment = MC These follow if they exist
Track File = TF These follow if they exist
Moving Map Parameters = MM? These follow if they exist
MM0,Yes
MMPNUM,4
MMPXY,1,0,0
MMPXY,2,4970,0
MMPXY,3,4964,3124
MMPXY,4,0,3107
MMPLL,1, 44.934384, 10.045107
MMPLL,2, 48.312022, 10.053068
MMPLL,3, 48.311993, 7.944172
MMPLL,4, 44.955173, 7.943893
MM1B,74.287342
LL Grid Setup
LLGRID,No,No Grid,Yes,255,16711680,0,No Labels,0,16777215,7,1,Yes,x
Other Grid Setup
GRGRID,No,No Grid,Yes,255,16711680,No Labels,0,16777215,8,1,Yes,No,No,x
MOP,Map Open Position,0,0
IWH,Map Image Width/Height,2500,1250
