OziExplorer Map Data File Version 2.2
AN NATRUN_________2024-E35AN.PNG
F:\mapas\africa\Africa Este (rusos) 1-500.000\AN NATRUN_________2024-E35AN.PNG
1 ,Map Code,
Pulkovo 1942 (1),, 0.0000, 0.0000,WGS 84
Reserved 1
Reserved 2
Magnetic Variation,,,E
Map Projection,Latitude/Longitude,PolyCal,Yes,AutoCalOnly,No,BSBUseWPX,No
Point01,xy, 78, 63,in, deg, 20, 0.0000,N, 24, 0.0000,E, grid, , , ,
Point02,xy, 2188, 76,in, deg, 20, 0.0000,N, 25, 30.0000,E, grid, , , ,
Point03,xy, 4293, 71,in, deg, 20, 0.0000,N, 27, 0.0000,E, grid, , , ,
Point04,xy, 68, 1545,in, deg, 19, 0.0000,N, 24, 0.0000,E, grid, , , ,
Point05,xy, 2189, 1556,in, deg, 19, 0.0000,N, 25, 30.0000,E, grid, , , ,
Point06,xy, 4308, 1551,in, deg, 19, 0.0000,N, 27, 0.0000,E, grid, , , ,
Point07,xy, 59, 3027,in, deg, 18, 0.0000,N, 24, 0.0000,E, grid, , , ,
Point08,xy, 2193, 3037,in, deg, 18, 0.0000,N, 25, 30.0000,E, grid, , , ,
Point09,xy, 4323, 3030,in, deg, 18, 0.0000,N, 27, 0.0000,E, grid, , , ,
Point10,xy, , ,in, deg, , ,, , ,, grid, , , ,
Point11,xy, , ,in, deg, , ,, , ,, grid, , , ,
Point12,xy, , ,in, deg, , ,, , ,, grid, , , ,
Point13,xy, , ,in, deg, , ,, , ,, grid, , , ,
Point14,xy, , ,in, deg, , ,, , ,, grid, , , ,
Point15,xy, , ,in, deg, , ,, , ,, grid, , , ,
Point16,xy, , ,in, deg, , ,, , ,, grid, , , ,
Point17,xy, , ,in, deg, , ,, , ,, grid, , , ,
Point18,xy, , ,in, deg, , ,, , ,, grid, , , ,
Point19,xy, , ,in, deg, , ,, , ,, grid, , , ,
Point20,xy, , ,in, deg, , ,, , ,, grid, , , ,
Point21,xy, , ,in, deg, , ,, , ,, grid, , , ,
Point22,xy, , ,in, deg, , ,, , ,, grid, , , ,
Point23,xy, , ,in, deg, , ,, , ,, grid, , , ,
Point24,xy, , ,in, deg, , ,, , ,, grid, , , ,
Point25,xy, , ,in, deg, , ,, , ,, grid, , , ,
Point26,xy, , ,in, deg, , ,, , ,, grid, , , ,
Point27,xy, , ,in, deg, , ,, , ,, grid, , , ,
Point28,xy, , ,in, deg, , ,, , ,, grid, , , ,
Point29,xy, , ,in, deg, , ,, , ,, grid, , , ,
Point30,xy, , ,in, deg, , ,, , ,, grid, , , ,
Projection Setup,,,,,,,,,,
Map Feature = MF ; Map Comment = MC These follow if they exist
Track File = TF These follow if they exist
Moving Map Parameters = MM? These follow if they exist
MM0,Yes
MMPNUM,4
MMPXY,1,0,0
MMPXY,2,4804,0
MMPXY,3,4841,3087
MMPXY,4,0,3088
MMPLL,1, 23.944145, 20.042030
MMPLL,2, 27.364719, 20.045708
MMPLL,3, 27.364477, 17.958648
MMPLL,4, 23.958833, 17.958433
MM1B,74.243351
LL Grid Setup
LLGRID,No,No Grid,Yes,255,16711680,0,No Labels,0,16777215,7,1,Yes,x
Other Grid Setup
GRGRID,No,No Grid,Yes,255,16711680,No Labels,0,16777215,8,1,Yes,No,No,x
MOP,Map Open Position,0,0
IWH,Map Image Width/Height,2500,1250
